BEGIN:VCALENDAR
PRODID:-//dvv-bw.de//dvv.Portalplattform//DE
VERSION:2.0
METHOD:PUBLISH
BEGIN:VEVENT
DTSTART:20270220T190000Z
DTEND:20270220T210000Z
DTSTAMP:20260422T020709Z
UID:523254523250-523254523150-1803078000000
SUMMARY:Musikkabarett mit Markus Kapp - Kapp der guten Hoffnung
LOCATION:Bürgersaal\, Bürgerhaus
DESCRIPTION:Die Welt versinkt immer mehr im Chaos und Hoffnung auf Besserung scheint nicht in Sicht zu sein. Doch keine Panik auf der Titanic\, denn die Hoffnung erwacht im neuen Programm „Kapp der guten Hoffnung“. Erleben Sie ein Musikkabarett der besonderen Art mit einem humorigen Feuerwerk von Denkanstößen\, geistreichem Witz und natürlich viel Musik.
CLASS:PUBLIC
X-ALT-DESC;FMTTYPE=text/html:Die Welt versinkt immer mehr im Chaos und Hoffnung auf Besserung scheint nicht in Sicht zu sein. Doch keine Panik auf der Titanic\, denn die Hoffnung erwacht im neuen Programm &bdquo;Kapp der guten Hoffnung&ldquo;. Erleben Sie ein Musikkabarett der besonderen Art mit einem humorigen Feuerwerk von Denkanstößen\, geistreichem Witz und natürlich viel Musik.
END:VEVENT
END:VCALENDAR
