BEGIN:VCALENDAR
PRODID:-//dvv-bw.de//dvv.Portalplattform//DE
VERSION:2.0
METHOD:PUBLISH
BEGIN:VEVENT
DTSTART:20270130T190000Z
DTEND:20270130T210000Z
DTSTAMP:20260422T222907Z
UID:523254564654-523254564554-1801263600000
SUMMARY:Theatersport Tübingen: Impro-Show
LOCATION:Bürgersaal\, Bürgerhaus
DESCRIPTION:Theatersport Tübingen: Impro-Show
CLASS:PUBLIC
X-ALT-DESC;FMTTYPE=text/html:Theatersport Tübingen: Impro-Show
END:VEVENT
END:VCALENDAR
