BEGIN:VCALENDAR
PRODID:-//dvv-bw.de//dvv.Portalplattform//DE
VERSION:2.0
METHOD:PUBLISH
BEGIN:VEVENT
DTSTART:20261201T090000Z
DTEND:20261201T110000Z
DTSTAMP:20260422T125143Z
UID:523253061945-523253061800-1796079600000
SUMMARY:Digitalsprechstunde für Senioren
LOCATION:Bürgertreff Hülbe\, Stettiner Straße 7
DESCRIPTION:Es wird eine persönliche Beratung angeboten\, in der auf Fragen eingegangen wird und diese direkt am mitgebrachten Gerät erklärt werden. Die Beratung erfolgt auf ehrenamtlicher Basis.
CLASS:PUBLIC
X-ALT-DESC;FMTTYPE=text/html:Es wird eine persönliche Beratung angeboten\, in der auf Fragen eingegangen wird und diese direkt am mitgebrachten Gerät erklärt werden. Die Beratung erfolgt auf ehrenamtlicher Basis.
END:VEVENT
BEGIN:VEVENT
DTSTART:20261202T170000Z
DTEND:20261202T190000Z
DTSTAMP:20260422T125143Z
UID:523253066258-523253057410-1796166000000
SUMMARY:Line Dance Anfänger/Wiedereinsteiger
LOCATION:Bürgertreff Hülbe\, Stettiner Straße 7
DESCRIPTION:Line Dance Gruppe\nWir üben gemeinsam\, sind keine Profis\, jeder kann sich einbringen.
CLASS:PUBLIC
X-ALT-DESC;FMTTYPE=text/html:Line Dance Gruppe<br>Wir üben gemeinsam\, sind keine Profis\, jeder kann sich einbringen.
END:VEVENT
BEGIN:VEVENT
DTSTART:20261205T120000Z
DTEND:20261205T160000Z
DTSTAMP:20260422T125143Z
UID:523253056066-523253049025-1796425200000
SUMMARY:Reparatur Café
LOCATION:Bürgertreff Hülbe\, Stettiner Straße 7
DESCRIPTION:Reparatur Café - Motto: Wegwerfen\, nein danke – reparieren! - kompetente Hilfestellung bei der Reparatur - Begegnungen und einander inspirieren.
CLASS:PUBLIC
X-ALT-DESC;FMTTYPE=text/html:Reparatur Café - Motto: Wegwerfen\, nein danke &ndash; reparieren! - kompetente Hilfestellung bei der Reparatur - Begegnungen und einander inspirieren.
END:VEVENT
BEGIN:VEVENT
DTSTART:20261205T183000Z
DTEND:20261205T203000Z
DTSTAMP:20260422T125143Z
UID:523252880006-523252879906-1796425200000
SUMMARY:Jahreskonzert
LOCATION:Turn- und Festhalle, Herrenwiesenweg 21
DESCRIPTION:Traditionelles Jahreskonzert mit abwechslungsreichem musikalischem Programm. Ein stimmungsvoller Konzertabend zum Jahresabschluss.
CLASS:PUBLIC
X-ALT-DESC;FMTTYPE=text/html:Traditionelles Jahreskonzert mit abwechslungsreichem musikalischem Programm. Ein stimmungsvoller Konzertabend zum Jahresabschluss.
END:VEVENT
BEGIN:VEVENT
DTSTART:20261204T230000Z
DTEND:20261204T230000Z
DTSTAMP:20260422T125143Z
UID:523253589854-523253589754-1796425200000
SUMMARY:Kawa-Club Xmas Party
LOCATION:KAWA-Clubhaus\, Dieselstraße 14
DESCRIPTION:Kawa-Club Xmas Party
CLASS:PUBLIC
X-ALT-DESC;FMTTYPE=text/html:Kawa-Club Xmas Party
END:VEVENT
BEGIN:VEVENT
DTSTART:20261208T090000Z
DTEND:20261208T110000Z
DTSTAMP:20260422T125143Z
UID:523253061946-523253061800-1796684400000
SUMMARY:Digitalsprechstunde für Senioren
LOCATION:Bürgertreff Hülbe\, Stettiner Straße 7
DESCRIPTION:Es wird eine persönliche Beratung angeboten\, in der auf Fragen eingegangen wird und diese direkt am mitgebrachten Gerät erklärt werden. Die Beratung erfolgt auf ehrenamtlicher Basis.
CLASS:PUBLIC
X-ALT-DESC;FMTTYPE=text/html:Es wird eine persönliche Beratung angeboten\, in der auf Fragen eingegangen wird und diese direkt am mitgebrachten Gerät erklärt werden. Die Beratung erfolgt auf ehrenamtlicher Basis.
END:VEVENT
BEGIN:VEVENT
DTSTART:20261209T170000Z
DTEND:20261209T190000Z
DTSTAMP:20260422T125143Z
UID:523253066259-523253057410-1796770800000
SUMMARY:Line Dance Anfänger/Wiedereinsteiger
LOCATION:Bürgertreff Hülbe\, Stettiner Straße 7
DESCRIPTION:Line Dance Gruppe\nWir üben gemeinsam\, sind keine Profis\, jeder kann sich einbringen.
CLASS:PUBLIC
X-ALT-DESC;FMTTYPE=text/html:Line Dance Gruppe<br>Wir üben gemeinsam\, sind keine Profis\, jeder kann sich einbringen.
END:VEVENT
BEGIN:VEVENT
DTSTART:20261210T160000Z
DTEND:20261210T171500Z
DTSTAMP:20260422T125143Z
UID:523253049130-523253049026-1796857200000
SUMMARY:Bürgersprechstunde des Bürgermeisters
LOCATION:Rathaus\, Zimmer 102\, Schloßhof 1
DESCRIPTION:Bürgersprechstunde des Bürgermeisters
CLASS:PUBLIC
X-ALT-DESC;FMTTYPE=text/html:Bürgersprechstunde des Bürgermeisters
END:VEVENT
BEGIN:VEVENT
DTSTART:20261211T183000Z
DTEND:20261211T203000Z
DTSTAMP:20260422T125143Z
UID:523252547112-523252547001-1796943600000
SUMMARY:NABU-Foto-AG
DESCRIPTION:Treffpunkt: Hemminger Bürgertreff\, Münchinger Str.2
CLASS:PUBLIC
X-ALT-DESC;FMTTYPE=text/html:Treffpunkt: Hemminger Bürgertreff\, Münchinger Str.2
END:VEVENT
BEGIN:VEVENT
DTSTART:20261212T160000Z
DTEND:20261212T203000Z
DTSTAMP:20260422T125143Z
UID:523253049131-523253049027-1797030000000
SUMMARY:Schwieberdinger Weihnachtsmarkt
LOCATION:Rund ums Rathaus\, Schloßhof 1
DESCRIPTION:Schwieberdinger Weihnachtsmarkt
CLASS:PUBLIC
X-ALT-DESC;FMTTYPE=text/html:Schwieberdinger Weihnachtsmarkt
END:VEVENT
BEGIN:VEVENT
DTSTART:20261213T110000Z
DTEND:20261213T180000Z
DTSTAMP:20260422T125143Z
UID:523253049132-523253049028-1797116400000
SUMMARY:Schwieberdinger Weihnachtsmarkt
LOCATION:Rund ums Rathaus\, Schloßhof 1
DESCRIPTION:Schwieberdinger Weihnachtsmarkt
CLASS:PUBLIC
X-ALT-DESC;FMTTYPE=text/html:Schwieberdinger Weihnachtsmarkt
END:VEVENT
BEGIN:VEVENT
DTSTART:20261213T163000Z
DTEND:20261213T183000Z
DTSTAMP:20260422T125143Z
UID:523253001458-523253001354-1797116400000
SUMMARY:Adventssingen unter dem Weihnachtsbaum
LOCATION:Schloßhof/ Rathaus
DESCRIPTION:Adventssingen unter dem Weihnachtsbaum
CLASS:PUBLIC
X-ALT-DESC;FMTTYPE=text/html:Adventssingen unter dem Weihnachtsbaum
END:VEVENT
BEGIN:VEVENT
DTSTART:20261215T090000Z
DTEND:20261215T110000Z
DTSTAMP:20260422T125143Z
UID:523253061947-523253061800-1797289200000
SUMMARY:Digitalsprechstunde für Senioren
LOCATION:Bürgertreff Hülbe\, Stettiner Straße 7
DESCRIPTION:Es wird eine persönliche Beratung angeboten\, in der auf Fragen eingegangen wird und diese direkt am mitgebrachten Gerät erklärt werden. Die Beratung erfolgt auf ehrenamtlicher Basis.
CLASS:PUBLIC
X-ALT-DESC;FMTTYPE=text/html:Es wird eine persönliche Beratung angeboten\, in der auf Fragen eingegangen wird und diese direkt am mitgebrachten Gerät erklärt werden. Die Beratung erfolgt auf ehrenamtlicher Basis.
END:VEVENT
BEGIN:VEVENT
DTSTART:20261215T150000Z
DTEND:20261215T170000Z
DTSTAMP:20260422T125143Z
UID:523252547101-523252547000-1797289200000
SUMMARY:Treffen der Naturschutzjugend NAJU
LOCATION:Hermann-Butzer-Schule im Tal, Herrenwiesenweg 31
DESCRIPTION:Interessierst Du Dich für Tiere und Pflanzen? Dann bist Du bei uns Naturentdeckern genau richtig. Wir erkunden die Natur direkt vor unserer Haustür und erfahren dabei ganz zwanglos viel Neues über Tiere und Pflanzen.
CLASS:PUBLIC
X-ALT-DESC;FMTTYPE=text/html:Interessierst Du Dich für Tiere und Pflanzen? Dann bist Du bei uns Naturentdeckern genau richtig. Wir erkunden die Natur direkt vor unserer Haustür und erfahren dabei ganz zwanglos viel Neues über Tiere und Pflanzen.
END:VEVENT
BEGIN:VEVENT
DTSTART:20261216T170000Z
DTEND:20261216T190000Z
DTSTAMP:20260422T125143Z
UID:523253066260-523253057410-1797375600000
SUMMARY:Line Dance Anfänger/Wiedereinsteiger
LOCATION:Bürgertreff Hülbe\, Stettiner Straße 7
DESCRIPTION:Line Dance Gruppe\nWir üben gemeinsam\, sind keine Profis\, jeder kann sich einbringen.
CLASS:PUBLIC
X-ALT-DESC;FMTTYPE=text/html:Line Dance Gruppe<br>Wir üben gemeinsam\, sind keine Profis\, jeder kann sich einbringen.
END:VEVENT
BEGIN:VEVENT
DTSTART:20261222T090000Z
DTEND:20261222T110000Z
DTSTAMP:20260422T125143Z
UID:523253061948-523253061800-1797894000000
SUMMARY:Digitalsprechstunde für Senioren
LOCATION:Bürgertreff Hülbe\, Stettiner Straße 7
DESCRIPTION:Es wird eine persönliche Beratung angeboten\, in der auf Fragen eingegangen wird und diese direkt am mitgebrachten Gerät erklärt werden. Die Beratung erfolgt auf ehrenamtlicher Basis.
CLASS:PUBLIC
X-ALT-DESC;FMTTYPE=text/html:Es wird eine persönliche Beratung angeboten\, in der auf Fragen eingegangen wird und diese direkt am mitgebrachten Gerät erklärt werden. Die Beratung erfolgt auf ehrenamtlicher Basis.
END:VEVENT
BEGIN:VEVENT
DTSTART:20261223T170000Z
DTEND:20261223T190000Z
DTSTAMP:20260422T125143Z
UID:523253066261-523253057410-1797980400000
SUMMARY:Line Dance Anfänger/Wiedereinsteiger
LOCATION:Bürgertreff Hülbe\, Stettiner Straße 7
DESCRIPTION:Line Dance Gruppe\nWir üben gemeinsam\, sind keine Profis\, jeder kann sich einbringen.
CLASS:PUBLIC
X-ALT-DESC;FMTTYPE=text/html:Line Dance Gruppe<br>Wir üben gemeinsam\, sind keine Profis\, jeder kann sich einbringen.
END:VEVENT
BEGIN:VEVENT
DTSTART:20261229T090000Z
DTEND:20261229T110000Z
DTSTAMP:20260422T125143Z
UID:523253061949-523253061800-1798498800000
SUMMARY:Digitalsprechstunde für Senioren
LOCATION:Bürgertreff Hülbe\, Stettiner Straße 7
DESCRIPTION:Es wird eine persönliche Beratung angeboten\, in der auf Fragen eingegangen wird und diese direkt am mitgebrachten Gerät erklärt werden. Die Beratung erfolgt auf ehrenamtlicher Basis.
CLASS:PUBLIC
X-ALT-DESC;FMTTYPE=text/html:Es wird eine persönliche Beratung angeboten\, in der auf Fragen eingegangen wird und diese direkt am mitgebrachten Gerät erklärt werden. Die Beratung erfolgt auf ehrenamtlicher Basis.
END:VEVENT
BEGIN:VEVENT
DTSTART:20261230T170000Z
DTEND:20261230T190000Z
DTSTAMP:20260422T125143Z
UID:523253066262-523253057410-1798585200000
SUMMARY:Line Dance Anfänger/Wiedereinsteiger
LOCATION:Bürgertreff Hülbe\, Stettiner Straße 7
DESCRIPTION:Line Dance Gruppe\nWir üben gemeinsam\, sind keine Profis\, jeder kann sich einbringen.
CLASS:PUBLIC
X-ALT-DESC;FMTTYPE=text/html:Line Dance Gruppe<br>Wir üben gemeinsam\, sind keine Profis\, jeder kann sich einbringen.
END:VEVENT
END:VCALENDAR
