BEGIN:VCALENDAR
PRODID:-//dvv-bw.de//dvv.Portalplattform//DE
VERSION:2.0
METHOD:PUBLISH
BEGIN:VEVENT
DTSTART:20261003T120000Z
DTEND:20261003T140000Z
DTSTAMP:20260421T234119Z
UID:523252511152-523252511052-1790978400000
SUMMARY:Exkursion "Waldspaziergang mit dem Förster - alte Bäume/Bedeutung von Totholz"
DESCRIPTION:Treffpunkt: Hemmingen\, Wanderparkplatz "Heimerdinger Wald"\, vor dem Bahnübergang Hemmingen Richtung Heimerdingen
CLASS:PUBLIC
X-ALT-DESC;FMTTYPE=text/html:Treffpunkt: Hemmingen\, Wanderparkplatz "Heimerdinger Wald"\, vor dem Bahnübergang Hemmingen Richtung Heimerdingen
END:VEVENT
BEGIN:VEVENT
DTSTART:20261006T080000Z
DTEND:20261006T100000Z
DTSTAMP:20260421T234119Z
UID:523253061937-523253061800-1791237600000
SUMMARY:Digitalsprechstunde für Senioren
LOCATION:Bürgertreff Hülbe\, Stettiner Straße 7
DESCRIPTION:Es wird eine persönliche Beratung angeboten\, in der auf Fragen eingegangen wird und diese direkt am mitgebrachten Gerät erklärt werden. Die Beratung erfolgt auf ehrenamtlicher Basis.
CLASS:PUBLIC
X-ALT-DESC;FMTTYPE=text/html:Es wird eine persönliche Beratung angeboten\, in der auf Fragen eingegangen wird und diese direkt am mitgebrachten Gerät erklärt werden. Die Beratung erfolgt auf ehrenamtlicher Basis.
END:VEVENT
BEGIN:VEVENT
DTSTART:20261007T160000Z
DTEND:20261007T180000Z
DTSTAMP:20260421T234119Z
UID:523253066250-523253057410-1791324000000
SUMMARY:Line Dance Anfänger/Wiedereinsteiger
LOCATION:Bürgertreff Hülbe\, Stettiner Straße 7
DESCRIPTION:Line Dance Gruppe\nWir üben gemeinsam\, sind keine Profis\, jeder kann sich einbringen.
CLASS:PUBLIC
X-ALT-DESC;FMTTYPE=text/html:Line Dance Gruppe<br>Wir üben gemeinsam\, sind keine Profis\, jeder kann sich einbringen.
END:VEVENT
BEGIN:VEVENT
DTSTART:20261008T150000Z
DTEND:20261008T161500Z
DTSTAMP:20260421T234119Z
UID:523253056056-523253049017-1791410400000
SUMMARY:Bürgersprechstunde des Bürgermeisters
LOCATION:Rathaus\, Zimmer 102\, Schloßhof 1
DESCRIPTION:Bürgersprechstunde des Bürgermeisters
CLASS:PUBLIC
X-ALT-DESC;FMTTYPE=text/html:Bürgersprechstunde des Bürgermeisters
END:VEVENT
BEGIN:VEVENT
DTSTART:20261010T110000Z
DTEND:20261010T150000Z
DTSTAMP:20260421T234119Z
UID:523253056064-523253049018-1791583200000
SUMMARY:Reparatur Café
LOCATION:Bürgertreff Hülbe\, Stettiner Straße 7
DESCRIPTION:Reparatur Café - Motto: Wegwerfen\, nein danke – reparieren! - kompetente Hilfestellung bei der Reparatur - Begegnungen und einander inspirieren.
CLASS:PUBLIC
X-ALT-DESC;FMTTYPE=text/html:Reparatur Café - Motto: Wegwerfen\, nein danke &ndash; reparieren! - kompetente Hilfestellung bei der Reparatur - Begegnungen und einander inspirieren.
END:VEVENT
BEGIN:VEVENT
DTSTART:20261010T120000Z
DTEND:20261010T150000Z
DTSTAMP:20260421T234119Z
UID:523252511153-523252511053-1791583200000
SUMMARY:"Wie kommt der Apfelsaft in die Flasche?
DESCRIPTION:Aktion der Naturschutzjugend auf der NABU-Streuobstwiese in Hemmingen am Eulenberg\nTreffpunkt: Hemmingen\, Kinderspielplatz Helene-Lange Straße 23
CLASS:PUBLIC
X-ALT-DESC;FMTTYPE=text/html:Aktion der Naturschutzjugend auf der NABU-Streuobstwiese in Hemmingen am Eulenberg<br>Treffpunkt: Hemmingen\, Kinderspielplatz Helene-Lange Straße 23
END:VEVENT
BEGIN:VEVENT
DTSTART:20261013T080000Z
DTEND:20261013T100000Z
DTSTAMP:20260421T234119Z
UID:523253061938-523253061800-1791842400000
SUMMARY:Digitalsprechstunde für Senioren
LOCATION:Bürgertreff Hülbe\, Stettiner Straße 7
DESCRIPTION:Es wird eine persönliche Beratung angeboten\, in der auf Fragen eingegangen wird und diese direkt am mitgebrachten Gerät erklärt werden. Die Beratung erfolgt auf ehrenamtlicher Basis.
CLASS:PUBLIC
X-ALT-DESC;FMTTYPE=text/html:Es wird eine persönliche Beratung angeboten\, in der auf Fragen eingegangen wird und diese direkt am mitgebrachten Gerät erklärt werden. Die Beratung erfolgt auf ehrenamtlicher Basis.
END:VEVENT
BEGIN:VEVENT
DTSTART:20261014T160000Z
DTEND:20261014T180000Z
DTSTAMP:20260421T234119Z
UID:523253066251-523253057410-1791928800000
SUMMARY:Line Dance Anfänger/Wiedereinsteiger
LOCATION:Bürgertreff Hülbe\, Stettiner Straße 7
DESCRIPTION:Line Dance Gruppe\nWir üben gemeinsam\, sind keine Profis\, jeder kann sich einbringen.
CLASS:PUBLIC
X-ALT-DESC;FMTTYPE=text/html:Line Dance Gruppe<br>Wir üben gemeinsam\, sind keine Profis\, jeder kann sich einbringen.
END:VEVENT
BEGIN:VEVENT
DTSTART:20261015T173000Z
DTEND:20261015T193000Z
DTSTAMP:20260421T234119Z
UID:523252547114-523252547001-1792015200000
SUMMARY:NABU-Foto-AG
DESCRIPTION:Treffpunkt: Hemminger Bürgertreff\, Münchinger Str.2
CLASS:PUBLIC
X-ALT-DESC;FMTTYPE=text/html:Treffpunkt: Hemminger Bürgertreff\, Münchinger Str.2
END:VEVENT
BEGIN:VEVENT
DTSTART:20261015T180000Z
DTEND:20261015T200000Z
DTSTAMP:20260421T234119Z
UID:523048352900-523048327550-1792015200000
SUMMARY:Gönn dir einmal einen Abend einfach nur für „für Dich!“ …von Frauen\, für Frauen
LOCATION:Evangelisches Gemeindehaus\, Gartenstraße 8\, 71701 Schwieberdingen
DESCRIPTION:Frauenverwöhnabend mit Anne Ruth Weber\, Kirchberg an der Murr;\nEv. Kirchengemeinde und die Apis Schwieberdingen laden herzlich ein. Eintritt frei\, um Spenden wird gebeten.\nWeitere Infos unter www.ev-kirche-schwieberdingen.de
CLASS:PUBLIC
X-ALT-DESC;FMTTYPE=text/html:Frauenverwöhnabend mit Anne Ruth Weber\, Kirchberg an der Murr;<br>Ev. Kirchengemeinde und die Apis Schwieberdingen laden herzlich ein. Eintritt frei\, um Spenden wird gebeten.<br>Weitere Infos unter www.ev-kirche-schwieberdingen.de
END:VEVENT
BEGIN:VEVENT
DTSTART:20261016T160000Z
DTEND:20261016T180000Z
DTSTAMP:20260421T234119Z
UID:523252511154-523252511054-1792101600000
SUMMARY:Lesung "True Crime in Nature"
LOCATION:Bürgerhaus\, Bahnhofstr. 14
DESCRIPTION:Diebstahl\, Mord und Trickbetrug - Naturfotografin und Autorin Farina Graßmann geht den kriminellen Machenschaften unter Tieren und Pflanzen auf den Grund. Eine Lesung für Erwachsene und Jugendliche; gemeinsam mit der Bibliothek Schwieberdingen\nTreffpunkt: Schwieberdingen\, Bürgerhaus\, Bahnhofstraße 14
CLASS:PUBLIC
X-ALT-DESC;FMTTYPE=text/html:Diebstahl\, Mord und Trickbetrug - Naturfotografin und Autorin Farina Graßmann geht den kriminellen Machenschaften unter Tieren und Pflanzen auf den Grund. Eine Lesung für Erwachsene und Jugendliche; gemeinsam mit der Bibliothek Schwieberdingen<br>Treffpunkt: Schwieberdingen\, Bürgerhaus\, Bahnhofstraße 14
END:VEVENT
BEGIN:VEVENT
DTSTART:20261016T170000Z
DTEND:20261016T190000Z
DTSTAMP:20260421T234119Z
UID:523251874169-523251876952-1792101600000
SUMMARY:Sportlerehrung
LOCATION:Turn- und Festhalle, Herrenwiesenweg 21
DESCRIPTION:Sportlerehrung
CLASS:PUBLIC
X-ALT-DESC;FMTTYPE=text/html:Sportlerehrung
END:VEVENT
BEGIN:VEVENT
DTSTART:20261016T220000Z
DTEND:20261016T220000Z
DTSTAMP:20260421T234119Z
UID:523253589853-523253589753-1792188000000
SUMMARY:Kawa-Club Laubfest 2026
LOCATION:KAWA-Clubhaus\, Dieselstraße 14
DESCRIPTION:Kawa-Club Laubfest 2026
CLASS:PUBLIC
X-ALT-DESC;FMTTYPE=text/html:Kawa-Club Laubfest 2026
END:VEVENT
BEGIN:VEVENT
DTSTART:20261020T080000Z
DTEND:20261020T100000Z
DTSTAMP:20260421T234119Z
UID:523253061939-523253061800-1792447200000
SUMMARY:Digitalsprechstunde für Senioren
LOCATION:Bürgertreff Hülbe\, Stettiner Straße 7
DESCRIPTION:Es wird eine persönliche Beratung angeboten\, in der auf Fragen eingegangen wird und diese direkt am mitgebrachten Gerät erklärt werden. Die Beratung erfolgt auf ehrenamtlicher Basis.
CLASS:PUBLIC
X-ALT-DESC;FMTTYPE=text/html:Es wird eine persönliche Beratung angeboten\, in der auf Fragen eingegangen wird und diese direkt am mitgebrachten Gerät erklärt werden. Die Beratung erfolgt auf ehrenamtlicher Basis.
END:VEVENT
BEGIN:VEVENT
DTSTART:20261020T140000Z
DTEND:20261020T160000Z
DTSTAMP:20260421T234119Z
UID:523252547103-523252547000-1792447200000
SUMMARY:Treffen der Naturschutzjugend NAJU
LOCATION:Hermann-Butzer-Schule im Tal, Herrenwiesenweg 31
DESCRIPTION:Interessierst Du Dich für Tiere und Pflanzen? Dann bist Du bei uns Naturentdeckern genau richtig. Wir erkunden die Natur direkt vor unserer Haustür und erfahren dabei ganz zwanglos viel Neues über Tiere und Pflanzen.
CLASS:PUBLIC
X-ALT-DESC;FMTTYPE=text/html:Interessierst Du Dich für Tiere und Pflanzen? Dann bist Du bei uns Naturentdeckern genau richtig. Wir erkunden die Natur direkt vor unserer Haustür und erfahren dabei ganz zwanglos viel Neues über Tiere und Pflanzen.
END:VEVENT
BEGIN:VEVENT
DTSTART:20261021T160000Z
DTEND:20261021T180000Z
DTSTAMP:20260421T234119Z
UID:523253066252-523253057410-1792533600000
SUMMARY:Line Dance Anfänger/Wiedereinsteiger
LOCATION:Bürgertreff Hülbe\, Stettiner Straße 7
DESCRIPTION:Line Dance Gruppe\nWir üben gemeinsam\, sind keine Profis\, jeder kann sich einbringen.
CLASS:PUBLIC
X-ALT-DESC;FMTTYPE=text/html:Line Dance Gruppe<br>Wir üben gemeinsam\, sind keine Profis\, jeder kann sich einbringen.
END:VEVENT
BEGIN:VEVENT
DTSTART:20261020T220000Z
DTEND:20261020T220000Z
DTSTAMP:20260421T234119Z
UID:523253049123-523253049019-1792533600000
SUMMARY:Herbstfest für Senioren
LOCATION:Turn- und Festhalle, Herrenwiesenweg 21
DESCRIPTION:Herbstfest für Senioren
CLASS:PUBLIC
X-ALT-DESC;FMTTYPE=text/html:Herbstfest für Senioren
END:VEVENT
BEGIN:VEVENT
DTSTART:20261027T090000Z
DTEND:20261027T110000Z
DTSTAMP:20260421T234119Z
UID:523253061940-523253061800-1793055600000
SUMMARY:Digitalsprechstunde für Senioren
LOCATION:Bürgertreff Hülbe\, Stettiner Straße 7
DESCRIPTION:Es wird eine persönliche Beratung angeboten\, in der auf Fragen eingegangen wird und diese direkt am mitgebrachten Gerät erklärt werden. Die Beratung erfolgt auf ehrenamtlicher Basis.
CLASS:PUBLIC
X-ALT-DESC;FMTTYPE=text/html:Es wird eine persönliche Beratung angeboten\, in der auf Fragen eingegangen wird und diese direkt am mitgebrachten Gerät erklärt werden. Die Beratung erfolgt auf ehrenamtlicher Basis.
END:VEVENT
BEGIN:VEVENT
DTSTART:20261028T170000Z
DTEND:20261028T190000Z
DTSTAMP:20260421T234119Z
UID:523253066253-523253057410-1793142000000
SUMMARY:Line Dance Anfänger/Wiedereinsteiger
LOCATION:Bürgertreff Hülbe\, Stettiner Straße 7
DESCRIPTION:Line Dance Gruppe\nWir üben gemeinsam\, sind keine Profis\, jeder kann sich einbringen.
CLASS:PUBLIC
X-ALT-DESC;FMTTYPE=text/html:Line Dance Gruppe<br>Wir üben gemeinsam\, sind keine Profis\, jeder kann sich einbringen.
END:VEVENT
BEGIN:VEVENT
DTSTART:20261029T230000Z
DTEND:20261029T230000Z
DTSTAMP:20260421T234119Z
UID:523253049124-523253049020-1793314800000
SUMMARY:Rübengeister schnitzen
LOCATION:Ortsmuseum „Im Alten Pfarrhaus“
DESCRIPTION:Rübengeister schnitzen
CLASS:PUBLIC
X-ALT-DESC;FMTTYPE=text/html:Rübengeister schnitzen
END:VEVENT
END:VCALENDAR
