BEGIN:VCALENDAR
PRODID:-//dvv-bw.de//dvv.Portalplattform//DE
VERSION:2.0
METHOD:PUBLISH
BEGIN:VEVENT
DTSTART:20260901T080000Z
DTEND:20260901T100000Z
DTSTAMP:20260421T220923Z
UID:523253061932-523253061800-1788213600000
SUMMARY:Digitalsprechstunde für Senioren
LOCATION:Bürgertreff Hülbe\, Stettiner Straße 7
DESCRIPTION:Es wird eine persönliche Beratung angeboten\, in der auf Fragen eingegangen wird und diese direkt am mitgebrachten Gerät erklärt werden. Die Beratung erfolgt auf ehrenamtlicher Basis.
CLASS:PUBLIC
X-ALT-DESC;FMTTYPE=text/html:Es wird eine persönliche Beratung angeboten\, in der auf Fragen eingegangen wird und diese direkt am mitgebrachten Gerät erklärt werden. Die Beratung erfolgt auf ehrenamtlicher Basis.
END:VEVENT
BEGIN:VEVENT
DTSTART:20260902T160000Z
DTEND:20260902T180000Z
DTSTAMP:20260421T220923Z
UID:523253057545-523253057410-1788300000000
SUMMARY:Line Dance Anfänger/Wiedereinsteiger
LOCATION:Bürgertreff Hülbe\, Stettiner Straße 7
DESCRIPTION:Line Dance Gruppe\nWir üben gemeinsam\, sind keine Profis\, jeder kann sich einbringen.
CLASS:PUBLIC
X-ALT-DESC;FMTTYPE=text/html:Line Dance Gruppe<br>Wir üben gemeinsam\, sind keine Profis\, jeder kann sich einbringen.
END:VEVENT
BEGIN:VEVENT
DTSTART:20260905T110000Z
DTEND:20260905T150000Z
DTSTAMP:20260421T220923Z
UID:523253056063-523253049015-1788559200000
SUMMARY:Reparatur Café
LOCATION:Bürgertreff Hülbe\, Stettiner Straße 7
DESCRIPTION:Reparatur Café - Motto: Wegwerfen\, nein danke – reparieren! - kompetente Hilfestellung bei der Reparatur - Begegnungen und einander inspirieren.
CLASS:PUBLIC
X-ALT-DESC;FMTTYPE=text/html:Reparatur Café - Motto: Wegwerfen\, nein danke &ndash; reparieren! - kompetente Hilfestellung bei der Reparatur - Begegnungen und einander inspirieren.
END:VEVENT
BEGIN:VEVENT
DTSTART:20260905T220000Z
DTEND:20260911T220000Z
DTSTAMP:20260421T220923Z
RRULE;FREQ=DAILY;UNTIL=20260912T215959Z
UID:523254013950-523254013850-1788645600000
SUMMARY:Sommerfreizeit
DESCRIPTION:Sommerfreizeit 2026- Show Time! \nDie Seelsorgeeinheit Strohgäu bietet zusammen mit der katholischen Kirche „Zur Heiligen Familie“ in Marbach eine Sommerfreizeit für Kinder ab 8 Jahren an\, welche von erfahrenen Jugendlichen und jungen Erwachsenen vorbereitet und geleitet wird.
CLASS:PUBLIC
X-ALT-DESC;FMTTYPE=text/html:Sommerfreizeit 2026- Show Time! <br>Die Seelsorgeeinheit Strohgäu bietet zusammen mit der katholischen Kirche &bdquo;Zur Heiligen Familie&ldquo; in Marbach eine Sommerfreizeit für Kinder ab 8 Jahren an\, welche von erfahrenen Jugendlichen und jungen Erwachsenen vorbereitet und geleitet wird.
END:VEVENT
BEGIN:VEVENT
DTSTART:20260908T080000Z
DTEND:20260908T100000Z
DTSTAMP:20260421T220923Z
UID:523253061933-523253061800-1788818400000
SUMMARY:Digitalsprechstunde für Senioren
LOCATION:Bürgertreff Hülbe\, Stettiner Straße 7
DESCRIPTION:Es wird eine persönliche Beratung angeboten\, in der auf Fragen eingegangen wird und diese direkt am mitgebrachten Gerät erklärt werden. Die Beratung erfolgt auf ehrenamtlicher Basis.
CLASS:PUBLIC
X-ALT-DESC;FMTTYPE=text/html:Es wird eine persönliche Beratung angeboten\, in der auf Fragen eingegangen wird und diese direkt am mitgebrachten Gerät erklärt werden. Die Beratung erfolgt auf ehrenamtlicher Basis.
END:VEVENT
BEGIN:VEVENT
DTSTART:20260909T160000Z
DTEND:20260909T180000Z
DTSTAMP:20260421T220923Z
UID:523253057546-523253057410-1788904800000
SUMMARY:Line Dance Anfänger/Wiedereinsteiger
LOCATION:Bürgertreff Hülbe\, Stettiner Straße 7
DESCRIPTION:Line Dance Gruppe\nWir üben gemeinsam\, sind keine Profis\, jeder kann sich einbringen.
CLASS:PUBLIC
X-ALT-DESC;FMTTYPE=text/html:Line Dance Gruppe<br>Wir üben gemeinsam\, sind keine Profis\, jeder kann sich einbringen.
END:VEVENT
BEGIN:VEVENT
DTSTART:20260910T150000Z
DTEND:20260910T161500Z
DTSTAMP:20260421T220923Z
UID:523253056055-523253049016-1788991200000
SUMMARY:Bürgersprechstunde des Bürgermeisters
LOCATION:Rathaus\, Zimmer 102\, Schloßhof 1
DESCRIPTION:Bürgersprechstunde des Bürgermeisters
CLASS:PUBLIC
X-ALT-DESC;FMTTYPE=text/html:Bürgersprechstunde des Bürgermeisters
END:VEVENT
BEGIN:VEVENT
DTSTART:20260915T080000Z
DTEND:20260915T100000Z
DTSTAMP:20260421T220923Z
UID:523253061934-523253061800-1789423200000
SUMMARY:Digitalsprechstunde für Senioren
LOCATION:Bürgertreff Hülbe\, Stettiner Straße 7
DESCRIPTION:Es wird eine persönliche Beratung angeboten\, in der auf Fragen eingegangen wird und diese direkt am mitgebrachten Gerät erklärt werden. Die Beratung erfolgt auf ehrenamtlicher Basis.
CLASS:PUBLIC
X-ALT-DESC;FMTTYPE=text/html:Es wird eine persönliche Beratung angeboten\, in der auf Fragen eingegangen wird und diese direkt am mitgebrachten Gerät erklärt werden. Die Beratung erfolgt auf ehrenamtlicher Basis.
END:VEVENT
BEGIN:VEVENT
DTSTART:20260915T140000Z
DTEND:20260915T160000Z
DTSTAMP:20260421T220923Z
UID:523252547104-523252547000-1789423200000
SUMMARY:Treffen der Naturschutzjugend NAJU
LOCATION:Hermann-Butzer-Schule im Tal, Herrenwiesenweg 31
DESCRIPTION:Interessierst Du Dich für Tiere und Pflanzen? Dann bist Du bei uns Naturentdeckern genau richtig. Wir erkunden die Natur direkt vor unserer Haustür und erfahren dabei ganz zwanglos viel Neues über Tiere und Pflanzen.
CLASS:PUBLIC
X-ALT-DESC;FMTTYPE=text/html:Interessierst Du Dich für Tiere und Pflanzen? Dann bist Du bei uns Naturentdeckern genau richtig. Wir erkunden die Natur direkt vor unserer Haustür und erfahren dabei ganz zwanglos viel Neues über Tiere und Pflanzen.
END:VEVENT
BEGIN:VEVENT
DTSTART:20260916T160000Z
DTEND:20260916T180000Z
DTSTAMP:20260421T220923Z
UID:523253057547-523253057410-1789509600000
SUMMARY:Line Dance Anfänger/Wiedereinsteiger
LOCATION:Bürgertreff Hülbe\, Stettiner Straße 7
DESCRIPTION:Line Dance Gruppe\nWir üben gemeinsam\, sind keine Profis\, jeder kann sich einbringen.
CLASS:PUBLIC
X-ALT-DESC;FMTTYPE=text/html:Line Dance Gruppe<br>Wir üben gemeinsam\, sind keine Profis\, jeder kann sich einbringen.
END:VEVENT
BEGIN:VEVENT
DTSTART:20260918T173000Z
DTEND:20260918T193000Z
DTSTAMP:20260421T220923Z
UID:523252547115-523252547001-1789682400000
SUMMARY:NABU-Foto-AG
DESCRIPTION:Treffpunkt: Hemminger Bürgertreff\, Münchinger Str.2
CLASS:PUBLIC
X-ALT-DESC;FMTTYPE=text/html:Treffpunkt: Hemminger Bürgertreff\, Münchinger Str.2
END:VEVENT
BEGIN:VEVENT
DTSTART:20260919T120000Z
DTEND:20260919T140000Z
DTSTAMP:20260421T220923Z
UID:523253230607-523253325006-1789768800000
SUMMARY:Herbsthocketse
LOCATION:Ort wird noch bekannt gegeben
DESCRIPTION:Herbsthocketse
CLASS:PUBLIC
X-ALT-DESC;FMTTYPE=text/html:Herbsthocketse
END:VEVENT
BEGIN:VEVENT
DTSTART:20260919T180000Z
DTEND:20260919T200000Z
DTSTAMP:20260421T220923Z
UID:523249336355-523249336254-1789768800000
SUMMARY:Improvisationstheatershow Q-Rage mit Live-Musik
LOCATION:Bürgersaal\, Bürgerhaus
DESCRIPTION:IMPROVISATIONSTHEATERSHOW Q-RAGE MIT LIVE-MUSIK „HERZERFRISCHENDE SPONTANKUNST“ im Schwieberdinger Bürgerhaus.
CLASS:PUBLIC
X-ALT-DESC;FMTTYPE=text/html:IMPROVISATIONSTHEATERSHOW Q-RAGE MIT LIVE-MUSIK &bdquo;HERZERFRISCHENDE SPONTANKUNST&ldquo; im Schwieberdinger Bürgerhaus.
END:VEVENT
BEGIN:VEVENT
DTSTART:20260922T080000Z
DTEND:20260922T100000Z
DTSTAMP:20260421T220923Z
UID:523253061935-523253061800-1790028000000
SUMMARY:Digitalsprechstunde für Senioren
LOCATION:Bürgertreff Hülbe\, Stettiner Straße 7
DESCRIPTION:Es wird eine persönliche Beratung angeboten\, in der auf Fragen eingegangen wird und diese direkt am mitgebrachten Gerät erklärt werden. Die Beratung erfolgt auf ehrenamtlicher Basis.
CLASS:PUBLIC
X-ALT-DESC;FMTTYPE=text/html:Es wird eine persönliche Beratung angeboten\, in der auf Fragen eingegangen wird und diese direkt am mitgebrachten Gerät erklärt werden. Die Beratung erfolgt auf ehrenamtlicher Basis.
END:VEVENT
BEGIN:VEVENT
DTSTART:20260923T160000Z
DTEND:20260923T180000Z
DTSTAMP:20260421T220923Z
UID:523253057548-523253057410-1790114400000
SUMMARY:Line Dance Anfänger/Wiedereinsteiger
LOCATION:Bürgertreff Hülbe\, Stettiner Straße 7
DESCRIPTION:Line Dance Gruppe\nWir üben gemeinsam\, sind keine Profis\, jeder kann sich einbringen.
CLASS:PUBLIC
X-ALT-DESC;FMTTYPE=text/html:Line Dance Gruppe<br>Wir üben gemeinsam\, sind keine Profis\, jeder kann sich einbringen.
END:VEVENT
BEGIN:VEVENT
DTSTART:20260925T220000Z
DTEND:20260926T220000Z
DTSTAMP:20260421T220923Z
RRULE;FREQ=DAILY;UNTIL=20260927T215959Z
UID:523252880005-523252879905-1790373600000
SUMMARY:Herbsthocketse
LOCATION:Schloßhof / vor dem Rathaus
DESCRIPTION:Gemütliche Herbsthocketse mit Musik und Bewirtung vor dem Rathaus. Details zum Programm folgen.
CLASS:PUBLIC
X-ALT-DESC;FMTTYPE=text/html:Gemütliche Herbsthocketse mit Musik und Bewirtung vor dem Rathaus. Details zum Programm folgen.
END:VEVENT
BEGIN:VEVENT
DTSTART:20260929T080000Z
DTEND:20260929T100000Z
DTSTAMP:20260421T220923Z
UID:523253061936-523253061800-1790632800000
SUMMARY:Digitalsprechstunde für Senioren
LOCATION:Bürgertreff Hülbe\, Stettiner Straße 7
DESCRIPTION:Es wird eine persönliche Beratung angeboten\, in der auf Fragen eingegangen wird und diese direkt am mitgebrachten Gerät erklärt werden. Die Beratung erfolgt auf ehrenamtlicher Basis.
CLASS:PUBLIC
X-ALT-DESC;FMTTYPE=text/html:Es wird eine persönliche Beratung angeboten\, in der auf Fragen eingegangen wird und diese direkt am mitgebrachten Gerät erklärt werden. Die Beratung erfolgt auf ehrenamtlicher Basis.
END:VEVENT
BEGIN:VEVENT
DTSTART:20260930T160000Z
DTEND:20260930T180000Z
DTSTAMP:20260421T220923Z
UID:523253057549-523253057410-1790719200000
SUMMARY:Line Dance Anfänger/Wiedereinsteiger
LOCATION:Bürgertreff Hülbe\, Stettiner Straße 7
DESCRIPTION:Line Dance Gruppe\nWir üben gemeinsam\, sind keine Profis\, jeder kann sich einbringen.
CLASS:PUBLIC
X-ALT-DESC;FMTTYPE=text/html:Line Dance Gruppe<br>Wir üben gemeinsam\, sind keine Profis\, jeder kann sich einbringen.
END:VEVENT
END:VCALENDAR
