BEGIN:VCALENDAR
PRODID:-//dvv-bw.de//dvv.Portalplattform//DE
VERSION:2.0
METHOD:PUBLISH
BEGIN:VEVENT
DTSTART:20260801T110000Z
DTEND:20260801T150000Z
DTSTAMP:20260422T011752Z
UID:523253056062-523253049013-1785535200000
SUMMARY:Reparatur Café
LOCATION:Bürgertreff Hülbe\, Stettiner Straße 7
DESCRIPTION:Reparatur Café - Motto: Wegwerfen\, nein danke – reparieren! - kompetente Hilfestellung bei der Reparatur - Begegnungen und einander inspirieren.
CLASS:PUBLIC
X-ALT-DESC;FMTTYPE=text/html:Reparatur Café - Motto: Wegwerfen\, nein danke &ndash; reparieren! - kompetente Hilfestellung bei der Reparatur - Begegnungen und einander inspirieren.
END:VEVENT
BEGIN:VEVENT
DTSTART:20260804T080000Z
DTEND:20260804T100000Z
DTSTAMP:20260422T011752Z
UID:523253061928-523253061800-1785794400000
SUMMARY:Digitalsprechstunde für Senioren
LOCATION:Bürgertreff Hülbe\, Stettiner Straße 7
DESCRIPTION:Es wird eine persönliche Beratung angeboten\, in der auf Fragen eingegangen wird und diese direkt am mitgebrachten Gerät erklärt werden. Die Beratung erfolgt auf ehrenamtlicher Basis.
CLASS:PUBLIC
X-ALT-DESC;FMTTYPE=text/html:Es wird eine persönliche Beratung angeboten\, in der auf Fragen eingegangen wird und diese direkt am mitgebrachten Gerät erklärt werden. Die Beratung erfolgt auf ehrenamtlicher Basis.
END:VEVENT
BEGIN:VEVENT
DTSTART:20260805T160000Z
DTEND:20260805T180000Z
DTSTAMP:20260422T011752Z
UID:523253057541-523253057410-1785880800000
SUMMARY:Line Dance Anfänger/Wiedereinsteiger
LOCATION:Bürgertreff Hülbe\, Stettiner Straße 7
DESCRIPTION:Line Dance Gruppe\nWir üben gemeinsam\, sind keine Profis\, jeder kann sich einbringen.
CLASS:PUBLIC
X-ALT-DESC;FMTTYPE=text/html:Line Dance Gruppe<br>Wir üben gemeinsam\, sind keine Profis\, jeder kann sich einbringen.
END:VEVENT
BEGIN:VEVENT
DTSTART:20260811T080000Z
DTEND:20260811T100000Z
DTSTAMP:20260422T011752Z
UID:523253061929-523253061800-1786399200000
SUMMARY:Digitalsprechstunde für Senioren
LOCATION:Bürgertreff Hülbe\, Stettiner Straße 7
DESCRIPTION:Es wird eine persönliche Beratung angeboten\, in der auf Fragen eingegangen wird und diese direkt am mitgebrachten Gerät erklärt werden. Die Beratung erfolgt auf ehrenamtlicher Basis.
CLASS:PUBLIC
X-ALT-DESC;FMTTYPE=text/html:Es wird eine persönliche Beratung angeboten\, in der auf Fragen eingegangen wird und diese direkt am mitgebrachten Gerät erklärt werden. Die Beratung erfolgt auf ehrenamtlicher Basis.
END:VEVENT
BEGIN:VEVENT
DTSTART:20260812T160000Z
DTEND:20260812T180000Z
DTSTAMP:20260422T011752Z
UID:523253057542-523253057410-1786485600000
SUMMARY:Line Dance Anfänger/Wiedereinsteiger
LOCATION:Bürgertreff Hülbe\, Stettiner Straße 7
DESCRIPTION:Line Dance Gruppe\nWir üben gemeinsam\, sind keine Profis\, jeder kann sich einbringen.
CLASS:PUBLIC
X-ALT-DESC;FMTTYPE=text/html:Line Dance Gruppe<br>Wir üben gemeinsam\, sind keine Profis\, jeder kann sich einbringen.
END:VEVENT
BEGIN:VEVENT
DTSTART:20260813T150000Z
DTEND:20260813T161500Z
DTSTAMP:20260422T011752Z
UID:523253056054-523253049014-1786572000000
SUMMARY:Bürgersprechstunde des Bürgermeisters
LOCATION:Rathaus\, Zimmer 102\, Schloßhof 1
DESCRIPTION:Bürgersprechstunde des Bürgermeisters
CLASS:PUBLIC
X-ALT-DESC;FMTTYPE=text/html:Bürgersprechstunde des Bürgermeisters
END:VEVENT
BEGIN:VEVENT
DTSTART:20260814T173000Z
DTEND:20260814T193000Z
DTSTAMP:20260422T011752Z
UID:523252547116-523252547001-1786658400000
SUMMARY:NABU-Foto-AG
DESCRIPTION:Treffpunkt: Hemminger Bürgertreff\, Münchinger Str.2
CLASS:PUBLIC
X-ALT-DESC;FMTTYPE=text/html:Treffpunkt: Hemminger Bürgertreff\, Münchinger Str.2
END:VEVENT
BEGIN:VEVENT
DTSTART:20260818T080000Z
DTEND:20260818T100000Z
DTSTAMP:20260422T011752Z
UID:523253061930-523253061800-1787004000000
SUMMARY:Digitalsprechstunde für Senioren
LOCATION:Bürgertreff Hülbe\, Stettiner Straße 7
DESCRIPTION:Es wird eine persönliche Beratung angeboten\, in der auf Fragen eingegangen wird und diese direkt am mitgebrachten Gerät erklärt werden. Die Beratung erfolgt auf ehrenamtlicher Basis.
CLASS:PUBLIC
X-ALT-DESC;FMTTYPE=text/html:Es wird eine persönliche Beratung angeboten\, in der auf Fragen eingegangen wird und diese direkt am mitgebrachten Gerät erklärt werden. Die Beratung erfolgt auf ehrenamtlicher Basis.
END:VEVENT
BEGIN:VEVENT
DTSTART:20260819T160000Z
DTEND:20260819T180000Z
DTSTAMP:20260422T011752Z
UID:523253057543-523253057410-1787090400000
SUMMARY:Line Dance Anfänger/Wiedereinsteiger
LOCATION:Bürgertreff Hülbe\, Stettiner Straße 7
DESCRIPTION:Line Dance Gruppe\nWir üben gemeinsam\, sind keine Profis\, jeder kann sich einbringen.
CLASS:PUBLIC
X-ALT-DESC;FMTTYPE=text/html:Line Dance Gruppe<br>Wir üben gemeinsam\, sind keine Profis\, jeder kann sich einbringen.
END:VEVENT
BEGIN:VEVENT
DTSTART:20260825T080000Z
DTEND:20260825T100000Z
DTSTAMP:20260422T011752Z
UID:523253061931-523253061800-1787608800000
SUMMARY:Digitalsprechstunde für Senioren
LOCATION:Bürgertreff Hülbe\, Stettiner Straße 7
DESCRIPTION:Es wird eine persönliche Beratung angeboten\, in der auf Fragen eingegangen wird und diese direkt am mitgebrachten Gerät erklärt werden. Die Beratung erfolgt auf ehrenamtlicher Basis.
CLASS:PUBLIC
X-ALT-DESC;FMTTYPE=text/html:Es wird eine persönliche Beratung angeboten\, in der auf Fragen eingegangen wird und diese direkt am mitgebrachten Gerät erklärt werden. Die Beratung erfolgt auf ehrenamtlicher Basis.
END:VEVENT
BEGIN:VEVENT
DTSTART:20260826T160000Z
DTEND:20260826T180000Z
DTSTAMP:20260422T011752Z
UID:523253057544-523253057410-1787695200000
SUMMARY:Line Dance Anfänger/Wiedereinsteiger
LOCATION:Bürgertreff Hülbe\, Stettiner Straße 7
DESCRIPTION:Line Dance Gruppe\nWir üben gemeinsam\, sind keine Profis\, jeder kann sich einbringen.
CLASS:PUBLIC
X-ALT-DESC;FMTTYPE=text/html:Line Dance Gruppe<br>Wir üben gemeinsam\, sind keine Profis\, jeder kann sich einbringen.
END:VEVENT
END:VCALENDAR
