BEGIN:VCALENDAR
PRODID:-//dvv-bw.de//dvv.Portalplattform//DE
VERSION:2.0
METHOD:PUBLISH
BEGIN:VEVENT
DTSTART:20260701T160000Z
DTEND:20260701T180000Z
DTSTAMP:20260421T222045Z
UID:523253057536-523253057410-1782856800000
SUMMARY:Line Dance Anfänger/Wiedereinsteiger
LOCATION:Bürgertreff Hülbe\, Stettiner Straße 7
DESCRIPTION:Line Dance Gruppe\nWir üben gemeinsam\, sind keine Profis\, jeder kann sich einbringen.
CLASS:PUBLIC
X-ALT-DESC;FMTTYPE=text/html:Line Dance Gruppe<br>Wir üben gemeinsam\, sind keine Profis\, jeder kann sich einbringen.
END:VEVENT
BEGIN:VEVENT
DTSTART:20260704T110000Z
DTEND:20260704T150000Z
DTSTAMP:20260421T222045Z
UID:523253056061-523253049010-1783116000000
SUMMARY:Reparatur Café
LOCATION:Bürgertreff Hülbe\, Stettiner Straße 7
DESCRIPTION:Reparatur Café - Motto: Wegwerfen\, nein danke – reparieren! - kompetente Hilfestellung bei der Reparatur - Begegnungen und einander inspirieren.
CLASS:PUBLIC
X-ALT-DESC;FMTTYPE=text/html:Reparatur Café - Motto: Wegwerfen\, nein danke &ndash; reparieren! - kompetente Hilfestellung bei der Reparatur - Begegnungen und einander inspirieren.
END:VEVENT
BEGIN:VEVENT
DTSTART:20260704T120000Z
DTEND:20260704T140000Z
DTSTAMP:20260421T222045Z
UID:523253230606-523253325005-1783116000000
SUMMARY:Sommer-Schnittkurs mit Hocketse
DESCRIPTION:Wir zeigen die wesentlichen Schnitt- & Pflegemassnahmen eines Sommerschnittes an Obst- & Beerengehölzen.\nWir beantworten Ihre Fragen.\nAuch für Nichtmitglieder kostenlos.
CLASS:PUBLIC
X-ALT-DESC;FMTTYPE=text/html:Wir zeigen die wesentlichen Schnitt- & Pflegemassnahmen eines Sommerschnittes an Obst- & Beerengehölzen.<br>Wir beantworten Ihre Fragen.<br>Auch für Nichtmitglieder kostenlos.
END:VEVENT
BEGIN:VEVENT
DTSTART:20260705T080000Z
DTEND:20260705T140000Z
DTSTAMP:20260421T222045Z
UID:523116754542-523116754438-1783202400000
SUMMARY:Gemeindefest rund um die Georgskirche
LOCATION:Georgskirche, Kirchstr. 27
DESCRIPTION:10.00 Uhr Festgottesdienst in der Georgskirche.
CLASS:PUBLIC
X-ALT-DESC;FMTTYPE=text/html:10.00 Uhr Festgottesdienst in der Georgskirche.
END:VEVENT
BEGIN:VEVENT
DTSTART:20260707T080000Z
DTEND:20260707T100000Z
DTSTAMP:20260421T222045Z
UID:523253061924-523253061800-1783375200000
SUMMARY:Digitalsprechstunde für Senioren
LOCATION:Bürgertreff Hülbe\, Stettiner Straße 7
DESCRIPTION:Es wird eine persönliche Beratung angeboten\, in der auf Fragen eingegangen wird und diese direkt am mitgebrachten Gerät erklärt werden. Die Beratung erfolgt auf ehrenamtlicher Basis.
CLASS:PUBLIC
X-ALT-DESC;FMTTYPE=text/html:Es wird eine persönliche Beratung angeboten\, in der auf Fragen eingegangen wird und diese direkt am mitgebrachten Gerät erklärt werden. Die Beratung erfolgt auf ehrenamtlicher Basis.
END:VEVENT
BEGIN:VEVENT
DTSTART:20260708T160000Z
DTEND:20260708T180000Z
DTSTAMP:20260421T222045Z
UID:523253057537-523253057410-1783461600000
SUMMARY:Line Dance Anfänger/Wiedereinsteiger
LOCATION:Bürgertreff Hülbe\, Stettiner Straße 7
DESCRIPTION:Line Dance Gruppe\nWir üben gemeinsam\, sind keine Profis\, jeder kann sich einbringen.
CLASS:PUBLIC
X-ALT-DESC;FMTTYPE=text/html:Line Dance Gruppe<br>Wir üben gemeinsam\, sind keine Profis\, jeder kann sich einbringen.
END:VEVENT
BEGIN:VEVENT
DTSTART:20260709T150000Z
DTEND:20260709T161500Z
DTSTAMP:20260421T222045Z
UID:523253056053-523253049011-1783548000000
SUMMARY:Bürgersprechstunde des Bürgermeisters
LOCATION:Rathaus\, Zimmer 102\, Schloßhof 1
DESCRIPTION:Bürgersprechstunde des Bürgermeisters
CLASS:PUBLIC
X-ALT-DESC;FMTTYPE=text/html:Bürgersprechstunde des Bürgermeisters
END:VEVENT
BEGIN:VEVENT
DTSTART:20260710T173000Z
DTEND:20260710T193000Z
DTSTAMP:20260421T222045Z
UID:523252547117-523252547001-1783634400000
SUMMARY:NABU-Foto-AG
DESCRIPTION:Treffpunkt: Hemminger Bürgertreff\, Münchinger Str.2
CLASS:PUBLIC
X-ALT-DESC;FMTTYPE=text/html:Treffpunkt: Hemminger Bürgertreff\, Münchinger Str.2
END:VEVENT
BEGIN:VEVENT
DTSTART:20260714T080000Z
DTEND:20260714T100000Z
DTSTAMP:20260421T222045Z
UID:523253061925-523253061800-1783980000000
SUMMARY:Digitalsprechstunde für Senioren
LOCATION:Bürgertreff Hülbe\, Stettiner Straße 7
DESCRIPTION:Es wird eine persönliche Beratung angeboten\, in der auf Fragen eingegangen wird und diese direkt am mitgebrachten Gerät erklärt werden. Die Beratung erfolgt auf ehrenamtlicher Basis.
CLASS:PUBLIC
X-ALT-DESC;FMTTYPE=text/html:Es wird eine persönliche Beratung angeboten\, in der auf Fragen eingegangen wird und diese direkt am mitgebrachten Gerät erklärt werden. Die Beratung erfolgt auf ehrenamtlicher Basis.
END:VEVENT
BEGIN:VEVENT
DTSTART:20260715T160000Z
DTEND:20260715T180000Z
DTSTAMP:20260421T222045Z
UID:523253057538-523253057410-1784066400000
SUMMARY:Line Dance Anfänger/Wiedereinsteiger
LOCATION:Bürgertreff Hülbe\, Stettiner Straße 7
DESCRIPTION:Line Dance Gruppe\nWir üben gemeinsam\, sind keine Profis\, jeder kann sich einbringen.
CLASS:PUBLIC
X-ALT-DESC;FMTTYPE=text/html:Line Dance Gruppe<br>Wir üben gemeinsam\, sind keine Profis\, jeder kann sich einbringen.
END:VEVENT
BEGIN:VEVENT
DTSTART:20260716T220000Z
DTEND:20260716T220000Z
DTSTAMP:20260421T222045Z
UID:523253049116-523253049012-1784239200000
SUMMARY:Entlassfeier
LOCATION:Turn- und Festhalle, Herrenwiesenweg 21
DESCRIPTION:Entlassfeier
CLASS:PUBLIC
X-ALT-DESC;FMTTYPE=text/html:Entlassfeier
END:VEVENT
BEGIN:VEVENT
DTSTART:20260718T183000Z
DTEND:20260718T213000Z
DTSTAMP:20260421T222045Z
UID:523252511151-523252511051-1784325600000
SUMMARY:"Batnight - auf der Suche nach Fledermäusen"
LOCATION:Hermann-Butzer-Schule im Tal, Herrenwiesenweg 31
DESCRIPTION:Treffpunkt: Schwieberdingen, Eingang Herman-Butzer-Schule im Tal, Herrenwiesenweg 31
CLASS:PUBLIC
X-ALT-DESC;FMTTYPE=text/html:Treffpunkt: Schwieberdingen, Eingang Herman-Butzer-Schule im Tal, Herrenwiesenweg 31
END:VEVENT
BEGIN:VEVENT
DTSTART:20260721T080000Z
DTEND:20260721T100000Z
DTSTAMP:20260421T222045Z
UID:523253061926-523253061800-1784584800000
SUMMARY:Digitalsprechstunde für Senioren
LOCATION:Bürgertreff Hülbe\, Stettiner Straße 7
DESCRIPTION:Es wird eine persönliche Beratung angeboten\, in der auf Fragen eingegangen wird und diese direkt am mitgebrachten Gerät erklärt werden. Die Beratung erfolgt auf ehrenamtlicher Basis.
CLASS:PUBLIC
X-ALT-DESC;FMTTYPE=text/html:Es wird eine persönliche Beratung angeboten\, in der auf Fragen eingegangen wird und diese direkt am mitgebrachten Gerät erklärt werden. Die Beratung erfolgt auf ehrenamtlicher Basis.
END:VEVENT
BEGIN:VEVENT
DTSTART:20260721T140000Z
DTEND:20260721T160000Z
DTSTAMP:20260421T222045Z
UID:523252547105-523252547000-1784584800000
SUMMARY:Treffen der Naturschutzjugend NAJU
LOCATION:Hermann-Butzer-Schule im Tal, Herrenwiesenweg 31
DESCRIPTION:Interessierst Du Dich für Tiere und Pflanzen? Dann bist Du bei uns Naturentdeckern genau richtig. Wir erkunden die Natur direkt vor unserer Haustür und erfahren dabei ganz zwanglos viel Neues über Tiere und Pflanzen.
CLASS:PUBLIC
X-ALT-DESC;FMTTYPE=text/html:Interessierst Du Dich für Tiere und Pflanzen? Dann bist Du bei uns Naturentdeckern genau richtig. Wir erkunden die Natur direkt vor unserer Haustür und erfahren dabei ganz zwanglos viel Neues über Tiere und Pflanzen.
END:VEVENT
BEGIN:VEVENT
DTSTART:20260722T160000Z
DTEND:20260722T180000Z
DTSTAMP:20260421T222045Z
UID:523253057539-523253057410-1784671200000
SUMMARY:Line Dance Anfänger/Wiedereinsteiger
LOCATION:Bürgertreff Hülbe\, Stettiner Straße 7
DESCRIPTION:Line Dance Gruppe\nWir üben gemeinsam\, sind keine Profis\, jeder kann sich einbringen.
CLASS:PUBLIC
X-ALT-DESC;FMTTYPE=text/html:Line Dance Gruppe<br>Wir üben gemeinsam\, sind keine Profis\, jeder kann sich einbringen.
END:VEVENT
BEGIN:VEVENT
DTSTART:20260728T080000Z
DTEND:20260728T100000Z
DTSTAMP:20260421T222045Z
UID:523253061927-523253061800-1785189600000
SUMMARY:Digitalsprechstunde für Senioren
LOCATION:Bürgertreff Hülbe\, Stettiner Straße 7
DESCRIPTION:Es wird eine persönliche Beratung angeboten\, in der auf Fragen eingegangen wird und diese direkt am mitgebrachten Gerät erklärt werden. Die Beratung erfolgt auf ehrenamtlicher Basis.
CLASS:PUBLIC
X-ALT-DESC;FMTTYPE=text/html:Es wird eine persönliche Beratung angeboten\, in der auf Fragen eingegangen wird und diese direkt am mitgebrachten Gerät erklärt werden. Die Beratung erfolgt auf ehrenamtlicher Basis.
END:VEVENT
BEGIN:VEVENT
DTSTART:20260729T160000Z
DTEND:20260729T180000Z
DTSTAMP:20260421T222045Z
UID:523253057540-523253057410-1785276000000
SUMMARY:Line Dance Anfänger/Wiedereinsteiger
LOCATION:Bürgertreff Hülbe\, Stettiner Straße 7
DESCRIPTION:Line Dance Gruppe\nWir üben gemeinsam\, sind keine Profis\, jeder kann sich einbringen.
CLASS:PUBLIC
X-ALT-DESC;FMTTYPE=text/html:Line Dance Gruppe<br>Wir üben gemeinsam\, sind keine Profis\, jeder kann sich einbringen.
END:VEVENT
END:VCALENDAR
