BEGIN:VCALENDAR
PRODID:-//dvv-bw.de//dvv.Portalplattform//DE
VERSION:2.0
METHOD:PUBLISH
BEGIN:VEVENT
DTSTART:20260602T080000Z
DTEND:20260602T100000Z
DTSTAMP:20260422T084918Z
UID:523253061919-523253061800-1780351200000
SUMMARY:Digitalsprechstunde für Senioren
LOCATION:Bürgertreff Hülbe\, Stettiner Straße 7
DESCRIPTION:Es wird eine persönliche Beratung angeboten\, in der auf Fragen eingegangen wird und diese direkt am mitgebrachten Gerät erklärt werden. Die Beratung erfolgt auf ehrenamtlicher Basis.
CLASS:PUBLIC
X-ALT-DESC;FMTTYPE=text/html:Es wird eine persönliche Beratung angeboten\, in der auf Fragen eingegangen wird und diese direkt am mitgebrachten Gerät erklärt werden. Die Beratung erfolgt auf ehrenamtlicher Basis.
END:VEVENT
BEGIN:VEVENT
DTSTART:20260603T160000Z
DTEND:20260603T180000Z
DTSTAMP:20260422T084918Z
UID:523253057532-523253057410-1780437600000
SUMMARY:Line Dance Anfänger/Wiedereinsteiger
LOCATION:Bürgertreff Hülbe\, Stettiner Straße 7
DESCRIPTION:Line Dance Gruppe\nWir üben gemeinsam\, sind keine Profis\, jeder kann sich einbringen.
CLASS:PUBLIC
X-ALT-DESC;FMTTYPE=text/html:Line Dance Gruppe<br>Wir üben gemeinsam\, sind keine Profis\, jeder kann sich einbringen.
END:VEVENT
BEGIN:VEVENT
DTSTART:20260609T080000Z
DTEND:20260609T100000Z
DTSTAMP:20260422T084918Z
UID:523253061920-523253061800-1780956000000
SUMMARY:Digitalsprechstunde für Senioren
LOCATION:Bürgertreff Hülbe\, Stettiner Straße 7
DESCRIPTION:Es wird eine persönliche Beratung angeboten\, in der auf Fragen eingegangen wird und diese direkt am mitgebrachten Gerät erklärt werden. Die Beratung erfolgt auf ehrenamtlicher Basis.
CLASS:PUBLIC
X-ALT-DESC;FMTTYPE=text/html:Es wird eine persönliche Beratung angeboten\, in der auf Fragen eingegangen wird und diese direkt am mitgebrachten Gerät erklärt werden. Die Beratung erfolgt auf ehrenamtlicher Basis.
END:VEVENT
BEGIN:VEVENT
DTSTART:20260610T160000Z
DTEND:20260610T180000Z
DTSTAMP:20260422T084918Z
UID:523253057533-523253057410-1781042400000
SUMMARY:Line Dance Anfänger/Wiedereinsteiger
LOCATION:Bürgertreff Hülbe\, Stettiner Straße 7
DESCRIPTION:Line Dance Gruppe\nWir üben gemeinsam\, sind keine Profis\, jeder kann sich einbringen.
CLASS:PUBLIC
X-ALT-DESC;FMTTYPE=text/html:Line Dance Gruppe<br>Wir üben gemeinsam\, sind keine Profis\, jeder kann sich einbringen.
END:VEVENT
BEGIN:VEVENT
DTSTART:20260611T150000Z
DTEND:20260611T161500Z
DTSTAMP:20260422T084918Z
UID:523253056052-523253049008-1781128800000
SUMMARY:Bürgersprechstunde des Bürgermeisters
LOCATION:Rathaus\, Zimmer 102\, Schloßhof 1
DESCRIPTION:Bürgersprechstunde des Bürgermeisters
CLASS:PUBLIC
X-ALT-DESC;FMTTYPE=text/html:Bürgersprechstunde des Bürgermeisters
END:VEVENT
BEGIN:VEVENT
DTSTART:20260612T173000Z
DTEND:20260612T193000Z
DTSTAMP:20260422T084918Z
UID:523252547118-523252547001-1781215200000
SUMMARY:NABU-Foto-AG
DESCRIPTION:Treffpunkt: Hemminger Bürgertreff\, Münchinger Str.2
CLASS:PUBLIC
X-ALT-DESC;FMTTYPE=text/html:Treffpunkt: Hemminger Bürgertreff\, Münchinger Str.2
END:VEVENT
BEGIN:VEVENT
DTSTART:20260613T110000Z
DTEND:20260613T150000Z
DTSTAMP:20260422T084918Z
UID:523253049113-523253049009-1781301600000
SUMMARY:Reparatur Café
LOCATION:Bürgertreff Hülbe\, Stettiner Straße 7
DESCRIPTION:Reparatur Café - Motto: Wegwerfen\, nein danke – reparieren!
CLASS:PUBLIC
X-ALT-DESC;FMTTYPE=text/html:Reparatur Café - Motto: Wegwerfen\, nein danke &ndash; reparieren!
END:VEVENT
BEGIN:VEVENT
DTSTART:20260616T080000Z
DTEND:20260616T100000Z
DTSTAMP:20260422T084918Z
UID:523253061921-523253061800-1781560800000
SUMMARY:Digitalsprechstunde für Senioren
LOCATION:Bürgertreff Hülbe\, Stettiner Straße 7
DESCRIPTION:Es wird eine persönliche Beratung angeboten\, in der auf Fragen eingegangen wird und diese direkt am mitgebrachten Gerät erklärt werden. Die Beratung erfolgt auf ehrenamtlicher Basis.
CLASS:PUBLIC
X-ALT-DESC;FMTTYPE=text/html:Es wird eine persönliche Beratung angeboten\, in der auf Fragen eingegangen wird und diese direkt am mitgebrachten Gerät erklärt werden. Die Beratung erfolgt auf ehrenamtlicher Basis.
END:VEVENT
BEGIN:VEVENT
DTSTART:20260617T160000Z
DTEND:20260617T180000Z
DTSTAMP:20260422T084918Z
UID:523253057534-523253057410-1781647200000
SUMMARY:Line Dance Anfänger/Wiedereinsteiger
LOCATION:Bürgertreff Hülbe\, Stettiner Straße 7
DESCRIPTION:Line Dance Gruppe\nWir üben gemeinsam\, sind keine Profis\, jeder kann sich einbringen.
CLASS:PUBLIC
X-ALT-DESC;FMTTYPE=text/html:Line Dance Gruppe<br>Wir üben gemeinsam\, sind keine Profis\, jeder kann sich einbringen.
END:VEVENT
BEGIN:VEVENT
DTSTART:20260617T070000Z
DTEND:20260617T090000Z
DTSTAMP:20260422T084918Z
UID:523051752608-523051679422-1781647200000
SUMMARY:Frauenfrühstück
LOCATION:Evangelisches Gemeindehaus\, Gartenstraße 8\, 71701 Schwieberdingen
DESCRIPTION:Referentin Alisa Ott aus Illingen.\nKinderbetreuung während des Referats wird angeboten.\nWeitere Infos unter www.ev-kirche-schwieberdingen.de
CLASS:PUBLIC
X-ALT-DESC;FMTTYPE=text/html:Referentin Alisa Ott aus Illingen.<br>Kinderbetreuung während des Referats wird angeboten.<br>Weitere Infos unter www.ev-kirche-schwieberdingen.de
END:VEVENT
BEGIN:VEVENT
DTSTART:20260618T050000Z
DTEND:20260618T180000Z
DTSTAMP:20260422T084918Z
UID:523253230605-523253325004-1781733600000
SUMMARY:Lehrfahrt nach Straßburg
DESCRIPTION:Lehrfahrt nach Straßburg
CLASS:PUBLIC
X-ALT-DESC;FMTTYPE=text/html:Lehrfahrt nach Straßburg
END:VEVENT
BEGIN:VEVENT
DTSTART:20260620T160000Z
DTEND:20260620T180000Z
DTSTAMP:20260422T084918Z
UID:523252511150-523252511050-1781906400000
SUMMARY:Exkursion Sommerabendspaziergang auf dem neuen Naturpfad "Mittleres Glemstal"
LOCATION:Nippenburg
DESCRIPTION:Treffpunkt: Schwieberdingen\, Parkplatz Bahnhof\, Bahnhofstraße 83;\n \nmit Drinks und Fingerfood unter der Linde in der Nippenburg
CLASS:PUBLIC
X-ALT-DESC;FMTTYPE=text/html:Treffpunkt: Schwieberdingen\, Parkplatz Bahnhof\, Bahnhofstraße 83;<br> <br>mit Drinks und Fingerfood unter der Linde in der Nippenburg
END:VEVENT
BEGIN:VEVENT
DTSTART:20260623T080000Z
DTEND:20260623T100000Z
DTSTAMP:20260422T084918Z
UID:523253061922-523253061800-1782165600000
SUMMARY:Digitalsprechstunde für Senioren
LOCATION:Bürgertreff Hülbe\, Stettiner Straße 7
DESCRIPTION:Es wird eine persönliche Beratung angeboten\, in der auf Fragen eingegangen wird und diese direkt am mitgebrachten Gerät erklärt werden. Die Beratung erfolgt auf ehrenamtlicher Basis.
CLASS:PUBLIC
X-ALT-DESC;FMTTYPE=text/html:Es wird eine persönliche Beratung angeboten\, in der auf Fragen eingegangen wird und diese direkt am mitgebrachten Gerät erklärt werden. Die Beratung erfolgt auf ehrenamtlicher Basis.
END:VEVENT
BEGIN:VEVENT
DTSTART:20260623T140000Z
DTEND:20260623T160000Z
DTSTAMP:20260422T084918Z
UID:523252547106-523252547000-1782165600000
SUMMARY:Treffen der Naturschutzjugend NAJU
LOCATION:Hermann-Butzer-Schule im Tal, Herrenwiesenweg 31
DESCRIPTION:Interessierst Du Dich für Tiere und Pflanzen? Dann bist Du bei uns Naturentdeckern genau richtig. Wir erkunden die Natur direkt vor unserer Haustür und erfahren dabei ganz zwanglos viel Neues über Tiere und Pflanzen.
CLASS:PUBLIC
X-ALT-DESC;FMTTYPE=text/html:Interessierst Du Dich für Tiere und Pflanzen? Dann bist Du bei uns Naturentdeckern genau richtig. Wir erkunden die Natur direkt vor unserer Haustür und erfahren dabei ganz zwanglos viel Neues über Tiere und Pflanzen.
END:VEVENT
BEGIN:VEVENT
DTSTART:20260624T160000Z
DTEND:20260624T180000Z
DTSTAMP:20260422T084918Z
UID:523253057535-523253057410-1782252000000
SUMMARY:Line Dance Anfänger/Wiedereinsteiger
LOCATION:Bürgertreff Hülbe\, Stettiner Straße 7
DESCRIPTION:Line Dance Gruppe\nWir üben gemeinsam\, sind keine Profis\, jeder kann sich einbringen.
CLASS:PUBLIC
X-ALT-DESC;FMTTYPE=text/html:Line Dance Gruppe<br>Wir üben gemeinsam\, sind keine Profis\, jeder kann sich einbringen.
END:VEVENT
BEGIN:VEVENT
DTSTART:20260630T080000Z
DTEND:20260630T100000Z
DTSTAMP:20260422T084918Z
UID:523253061923-523253061800-1782770400000
SUMMARY:Digitalsprechstunde für Senioren
LOCATION:Bürgertreff Hülbe\, Stettiner Straße 7
DESCRIPTION:Es wird eine persönliche Beratung angeboten\, in der auf Fragen eingegangen wird und diese direkt am mitgebrachten Gerät erklärt werden. Die Beratung erfolgt auf ehrenamtlicher Basis.
CLASS:PUBLIC
X-ALT-DESC;FMTTYPE=text/html:Es wird eine persönliche Beratung angeboten\, in der auf Fragen eingegangen wird und diese direkt am mitgebrachten Gerät erklärt werden. Die Beratung erfolgt auf ehrenamtlicher Basis.
END:VEVENT
END:VCALENDAR
