BEGIN:VCALENDAR
PRODID:-//dvv-bw.de//dvv.Portalplattform//DE
VERSION:2.0
METHOD:PUBLISH
BEGIN:VEVENT
DTSTART:20260501T090000Z
DTEND:20260501T160000Z
DTSTAMP:20260421T235524Z
UID:523252881678-523252881561-1777586400000
SUMMARY:1. Mai Hocketse
LOCATION:Festplatz\, gegenüber Bahnhofstr. 77 / 79
DESCRIPTION:1.
Mai Hocketse
CLASS:PUBLIC
X-ALT-DESC;FMTTYPE=text/html:1.<br>Mai Hocketse
END:VEVENT
BEGIN:VEVENT
DTSTART:20260503T063000Z
DTEND:20260503T093000Z
DTSTAMP:20260421T235524Z
UID:523252489756-523252490704-1777759200000
SUMMARY:Exkursion "Wie singen unsere Vögel?" Vogelkundlicher Spaziergang
LOCATION:Bahnhof
DESCRIPTION:Prof. Dr. Hartmut Kayser Tel. 0173 6626645\nTreffpunkt: Schwieberdingen\, Parkplatz Bahnhof\, Bahnhofstraße 83
CLASS:PUBLIC
X-ALT-DESC;FMTTYPE=text/html:Prof. Dr. Hartmut Kayser Tel. 0173 6626645<br>Treffpunkt: Schwieberdingen\, Parkplatz Bahnhof\, Bahnhofstraße 83
END:VEVENT
BEGIN:VEVENT
DTSTART:20260506T160000Z
DTEND:20260506T180000Z
DTSTAMP:20260421T235524Z
UID:523253057528-523253057410-1778018400000
SUMMARY:Line Dance Anfänger/Wiedereinsteiger
LOCATION:Bürgertreff Hülbe\, Stettiner Straße 7
DESCRIPTION:Line Dance Gruppe\nWir üben gemeinsam\, sind keine Profis\, jeder kann sich einbringen.
CLASS:PUBLIC
X-ALT-DESC;FMTTYPE=text/html:Line Dance Gruppe<br>Wir üben gemeinsam\, sind keine Profis\, jeder kann sich einbringen.
END:VEVENT
BEGIN:VEVENT
DTSTART:20260507T150000Z
DTEND:20260507T161500Z
DTSTAMP:20260421T235524Z
UID:523254519600-523253049006-1778104800000
SUMMARY:Bürgersprechstunde des Bürgermeisters
LOCATION:Rathaus\, Zimmer 102\, Schloßhof 1
DESCRIPTION:Bürgersprechstunde des Bürgermeisters
CLASS:PUBLIC
X-ALT-DESC;FMTTYPE=text/html:Bürgersprechstunde des Bürgermeisters
END:VEVENT
BEGIN:VEVENT
DTSTART:20260508T173000Z
DTEND:20260508T193000Z
DTSTAMP:20260421T235524Z
UID:523252547119-523252547001-1778191200000
SUMMARY:NABU-Foto-AG
DESCRIPTION:Treffpunkt: Hemminger Bürgertreff\, Münchinger Str.2
CLASS:PUBLIC
X-ALT-DESC;FMTTYPE=text/html:Treffpunkt: Hemminger Bürgertreff\, Münchinger Str.2
END:VEVENT
BEGIN:VEVENT
DTSTART:20260509T110000Z
DTEND:20260509T150000Z
DTSTAMP:20260421T235524Z
UID:523253056060-523253049007-1778277600000
SUMMARY:Reparatur Café
LOCATION:Bürgertreff Hülbe\, Stettiner Straße 7
DESCRIPTION:Reparatur Café - Motto: Wegwerfen\, nein danke – reparieren! - kompetente Hilfestellung bei der Reparatur!Begegnungen und einander inspirieren.
CLASS:PUBLIC
X-ALT-DESC;FMTTYPE=text/html:Reparatur Café - Motto: Wegwerfen\, nein danke &ndash; reparieren! - kompetente Hilfestellung bei der Reparatur!Begegnungen und einander inspirieren.
END:VEVENT
BEGIN:VEVENT
DTSTART:20260510T073000Z
DTEND:20260510T093000Z
DTSTAMP:20260421T235524Z
UID:523096985457-523096978095-1778364000000
SUMMARY:Konfirmations-Festgottesdienst mit Posaunenchor
LOCATION:Georgskirche, Kirchstr. 27
DESCRIPTION:Konfirmations-Festgottesdienst mit Posaunenchor
CLASS:PUBLIC
X-ALT-DESC;FMTTYPE=text/html:Konfirmations-Festgottesdienst mit Posaunenchor
END:VEVENT
BEGIN:VEVENT
DTSTART:20260512T080000Z
DTEND:20260512T100000Z
DTSTAMP:20260421T235524Z
UID:523253061916-523253061800-1778536800000
SUMMARY:Digitalsprechstunde für Senioren
LOCATION:Bürgertreff Hülbe\, Stettiner Straße 7
DESCRIPTION:Es wird eine persönliche Beratung angeboten\, in der auf Fragen eingegangen wird und diese direkt am mitgebrachten Gerät erklärt werden. Die Beratung erfolgt auf ehrenamtlicher Basis.
CLASS:PUBLIC
X-ALT-DESC;FMTTYPE=text/html:Es wird eine persönliche Beratung angeboten\, in der auf Fragen eingegangen wird und diese direkt am mitgebrachten Gerät erklärt werden. Die Beratung erfolgt auf ehrenamtlicher Basis.
END:VEVENT
BEGIN:VEVENT
DTSTART:20260513T160000Z
DTEND:20260513T180000Z
DTSTAMP:20260421T235524Z
UID:523253057529-523253057410-1778623200000
SUMMARY:Line Dance Anfänger/Wiedereinsteiger
LOCATION:Bürgertreff Hülbe\, Stettiner Straße 7
DESCRIPTION:Line Dance Gruppe\nWir üben gemeinsam\, sind keine Profis\, jeder kann sich einbringen.
CLASS:PUBLIC
X-ALT-DESC;FMTTYPE=text/html:Line Dance Gruppe<br>Wir üben gemeinsam\, sind keine Profis\, jeder kann sich einbringen.
END:VEVENT
BEGIN:VEVENT
DTSTART:20260514T090000Z
DTEND:20260514T150000Z
DTSTAMP:20260421T235524Z
UID:523252853752-523252861250-1778709600000
SUMMARY:Vatertags-Hocketse an der Neumühle
LOCATION:Neumühle
DESCRIPTION:Vatertags-Hocketse an der Neumühle
CLASS:PUBLIC
X-ALT-DESC;FMTTYPE=text/html:Vatertags-Hocketse an der Neumühle
END:VEVENT
BEGIN:VEVENT
DTSTART:20260516T180000Z
DTEND:20260516T210000Z
DTSTAMP:20260421T235524Z
UID:523252489757-523252490705-1778882400000
SUMMARY:Exkursion "Wie singen unsere Vögel?" Vogelkundlicher Abendspaziergang
LOCATION:Nippenburg
DESCRIPTION:Prof. Dr. Hartmut Kayser Tel. 0173 6626645
Treffpunkt: Nippenburg, Parkplatz Golfanlage, Nippenburg 21
CLASS:PUBLIC
X-ALT-DESC;FMTTYPE=text/html:Prof. Dr. Hartmut Kayser Tel. 0173 6626645<br>Treffpunkt: Nippenburg, Parkplatz Golfanlage, Nippenburg 21
END:VEVENT
BEGIN:VEVENT
DTSTART:20260519T080000Z
DTEND:20260519T100000Z
DTSTAMP:20260421T235524Z
UID:523253061917-523253061800-1779141600000
SUMMARY:Digitalsprechstunde für Senioren
LOCATION:Bürgertreff Hülbe\, Stettiner Straße 7
DESCRIPTION:Es wird eine persönliche Beratung angeboten\, in der auf Fragen eingegangen wird und diese direkt am mitgebrachten Gerät erklärt werden. Die Beratung erfolgt auf ehrenamtlicher Basis.
CLASS:PUBLIC
X-ALT-DESC;FMTTYPE=text/html:Es wird eine persönliche Beratung angeboten\, in der auf Fragen eingegangen wird und diese direkt am mitgebrachten Gerät erklärt werden. Die Beratung erfolgt auf ehrenamtlicher Basis.
END:VEVENT
BEGIN:VEVENT
DTSTART:20260519T140000Z
DTEND:20260519T160000Z
DTSTAMP:20260421T235524Z
UID:523252547107-523252547000-1779141600000
SUMMARY:Treffen der Naturschutzjugend NAJU
LOCATION:Hermann-Butzer-Schule im Tal, Herrenwiesenweg 31
DESCRIPTION:Interessierst Du Dich für Tiere und Pflanzen? Dann bist Du bei uns Naturentdeckern genau richtig. Wir erkunden die Natur direkt vor unserer Haustür und erfahren dabei ganz zwanglos viel Neues über Tiere und Pflanzen.
CLASS:PUBLIC
X-ALT-DESC;FMTTYPE=text/html:Interessierst Du Dich für Tiere und Pflanzen? Dann bist Du bei uns Naturentdeckern genau richtig. Wir erkunden die Natur direkt vor unserer Haustür und erfahren dabei ganz zwanglos viel Neues über Tiere und Pflanzen.
END:VEVENT
BEGIN:VEVENT
DTSTART:20260520T160000Z
DTEND:20260520T180000Z
DTSTAMP:20260421T235524Z
UID:523253057530-523253057410-1779228000000
SUMMARY:Line Dance Anfänger/Wiedereinsteiger
LOCATION:Bürgertreff Hülbe\, Stettiner Straße 7
DESCRIPTION:Line Dance Gruppe\nWir üben gemeinsam\, sind keine Profis\, jeder kann sich einbringen.
CLASS:PUBLIC
X-ALT-DESC;FMTTYPE=text/html:Line Dance Gruppe<br>Wir üben gemeinsam\, sind keine Profis\, jeder kann sich einbringen.
END:VEVENT
BEGIN:VEVENT
DTSTART:20260521T220000Z
DTEND:20260523T220000Z
DTSTAMP:20260421T235524Z
RRULE;FREQ=DAILY;UNTIL=20260524T215959Z
UID:523253589852-523253589752-1779400800000
SUMMARY:Kawa-Fest 2026
LOCATION:Vöhinger Weg 61
DESCRIPTION:Kawa-Fest 2026
CLASS:PUBLIC
X-ALT-DESC;FMTTYPE=text/html:Kawa-Fest 2026
END:VEVENT
BEGIN:VEVENT
DTSTART:20260525T083000Z
DTEND:20260525T103000Z
DTSTAMP:20260421T235524Z
UID:523057027610-523056927660-1779660000000
SUMMARY:Gottesdienst auf der Nippenburg
LOCATION:Ruine Nippenburg
DESCRIPTION:Gestaltet von der Kirchengemeinde Schwieberdingen unter der Mitwirkung des Posaunenchors. Distriktgottesdienst der Ev. Kirchengemeinden Schwieberdingen\, Hemmingen u. Markgröningen
CLASS:PUBLIC
X-ALT-DESC;FMTTYPE=text/html:Gestaltet von der Kirchengemeinde Schwieberdingen unter der Mitwirkung des Posaunenchors. Distriktgottesdienst der Ev. Kirchengemeinden Schwieberdingen\, Hemmingen u. Markgröningen
END:VEVENT
BEGIN:VEVENT
DTSTART:20260525T083000Z
DTEND:20260525T103000Z
DTSTAMP:20260421T235524Z
UID:523096985455-523096978097-1779660000000
SUMMARY:Gottesdienst im Grünen auf der Nippenburg mit Posaunenchor
LOCATION:Ruine Nippenburg
DESCRIPTION:Pfingstgottesdienst zusammen mit den Evangelischen Kirchengemeinden Schwieberdingen\, Markgröningen u. Hemmingen\nBei Regen findet der Gottesdienst in der Georgskirche statt.\nWeitere Infos unter www.ev-kirche-schwieberdingen.de
CLASS:PUBLIC
X-ALT-DESC;FMTTYPE=text/html:Pfingstgottesdienst zusammen mit den Evangelischen Kirchengemeinden Schwieberdingen\, Markgröningen u. Hemmingen<br>Bei Regen findet der Gottesdienst in der Georgskirche statt.<br>Weitere Infos unter www.ev-kirche-schwieberdingen.de
END:VEVENT
BEGIN:VEVENT
DTSTART:20260526T080000Z
DTEND:20260526T100000Z
DTSTAMP:20260421T235524Z
UID:523253061918-523253061800-1779746400000
SUMMARY:Digitalsprechstunde für Senioren
LOCATION:Bürgertreff Hülbe\, Stettiner Straße 7
DESCRIPTION:Es wird eine persönliche Beratung angeboten\, in der auf Fragen eingegangen wird und diese direkt am mitgebrachten Gerät erklärt werden. Die Beratung erfolgt auf ehrenamtlicher Basis.
CLASS:PUBLIC
X-ALT-DESC;FMTTYPE=text/html:Es wird eine persönliche Beratung angeboten\, in der auf Fragen eingegangen wird und diese direkt am mitgebrachten Gerät erklärt werden. Die Beratung erfolgt auf ehrenamtlicher Basis.
END:VEVENT
BEGIN:VEVENT
DTSTART:20260527T160000Z
DTEND:20260527T180000Z
DTSTAMP:20260421T235524Z
UID:523253057531-523253057410-1779832800000
SUMMARY:Line Dance Anfänger/Wiedereinsteiger
LOCATION:Bürgertreff Hülbe\, Stettiner Straße 7
DESCRIPTION:Line Dance Gruppe\nWir üben gemeinsam\, sind keine Profis\, jeder kann sich einbringen.
CLASS:PUBLIC
X-ALT-DESC;FMTTYPE=text/html:Line Dance Gruppe<br>Wir üben gemeinsam\, sind keine Profis\, jeder kann sich einbringen.
END:VEVENT
END:VCALENDAR
