BEGIN:VCALENDAR
PRODID:-//dvv-bw.de//dvv.Portalplattform//DE
VERSION:2.0
METHOD:PUBLISH
BEGIN:VEVENT
DTSTART:20260424T170000Z
DTEND:20260424T213000Z
DTSTAMP:20260423T011148Z
UID:523254372650-523254372550-1776981600000
SUMMARY:Blech X-Plosion 2026
LOCATION:Festplatz\, gegenüber Bahnhofstr. 77 / 79
DESCRIPTION:Am Freitag\, 24. April 2026 gibt es geballte Brass-Power im großen Festzelt auf dem Festplatz Schwieberdingen mit gleich zwei energiegeladenen Bands für beste Festivalstimmung...
CLASS:PUBLIC
X-ALT-DESC;FMTTYPE=text/html:Am Freitag\, 24. April 2026 gibt es geballte Brass-Power im großen Festzelt auf dem Festplatz Schwieberdingen mit gleich zwei energiegeladenen Bands für beste Festivalstimmung...
END:VEVENT
BEGIN:VEVENT
DTSTART:20260423T220000Z
DTEND:20260426T220000Z
DTSTAMP:20260423T011148Z
RRULE;FREQ=DAILY;UNTIL=20260427T215959Z
UID:523252880004-523252879904-1776981600000
SUMMARY:Musikfest
LOCATION:Festplatz\, gegenüber Bahnhofstr. 77 / 79
DESCRIPTION:Mehrere Tage Blasmusik\, Begegnung und Geselligkeit. Das Musikfest bietet ein vielfältiges Programm für Musikfreunde jeden Alters.
CLASS:PUBLIC
X-ALT-DESC;FMTTYPE=text/html:Mehrere Tage Blasmusik\, Begegnung und Geselligkeit. Das Musikfest bietet ein vielfältiges Programm für Musikfreunde jeden Alters.
END:VEVENT
BEGIN:VEVENT
DTSTART:20260425T170000Z
DTEND:20260425T190000Z
DTSTAMP:20260423T011148Z
UID:523252860104-523252860004-1777068000000
SUMMARY:Frühjahrskonzert
LOCATION:Turn- und Festhalle, Herrenwiesenweg 21
DESCRIPTION:Frühjahrskonzert des Strohgäusinfonieorchesters
CLASS:PUBLIC
X-ALT-DESC;FMTTYPE=text/html:Frühjahrskonzert des Strohgäusinfonieorchesters
END:VEVENT
BEGIN:VEVENT
DTSTART:20260428T080000Z
DTEND:20260428T100000Z
DTSTAMP:20260423T011148Z
UID:523253061914-523253061800-1777327200000
SUMMARY:Digitalsprechstunde für Senioren
LOCATION:Bürgertreff Hülbe\, Stettiner Straße 7
DESCRIPTION:Es wird eine persönliche Beratung angeboten\, in der auf Fragen eingegangen wird und diese direkt am mitgebrachten Gerät erklärt werden. Die Beratung erfolgt auf ehrenamtlicher Basis.
CLASS:PUBLIC
X-ALT-DESC;FMTTYPE=text/html:Es wird eine persönliche Beratung angeboten\, in der auf Fragen eingegangen wird und diese direkt am mitgebrachten Gerät erklärt werden. Die Beratung erfolgt auf ehrenamtlicher Basis.
END:VEVENT
BEGIN:VEVENT
DTSTART:20260429T160000Z
DTEND:20260429T180000Z
DTSTAMP:20260423T011148Z
UID:523253057527-523253057410-1777413600000
SUMMARY:Line Dance Anfänger/Wiedereinsteiger
LOCATION:Bürgertreff Hülbe\, Stettiner Straße 7
DESCRIPTION:Line Dance Gruppe\nWir üben gemeinsam\, sind keine Profis\, jeder kann sich einbringen.
CLASS:PUBLIC
X-ALT-DESC;FMTTYPE=text/html:Line Dance Gruppe<br>Wir üben gemeinsam\, sind keine Profis\, jeder kann sich einbringen.
END:VEVENT
BEGIN:VEVENT
DTSTART:20260430T150000Z
DTEND:20260430T170000Z
DTSTAMP:20260423T011148Z
UID:523254564650-523254564550-1777500000000
SUMMARY:35. Maibaumstellen mit Einweihung Bürgerhaus
LOCATION:Hardt- und Schönbühlhof
DESCRIPTION:17:00 Uhr Festbeginn mit Einweihung Bürgerhaus Hardt- und Schönbühlhof19:00 Uhr Maibaumstellen in der Ortsmitte Hardt- und Schönbühlhof
CLASS:PUBLIC
X-ALT-DESC;FMTTYPE=text/html:17:00 Uhr Festbeginn mit Einweihung Bürgerhaus Hardt- und Schönbühlhof19:00 Uhr Maibaumstellen in der Ortsmitte Hardt- und Schönbühlhof
END:VEVENT
END:VCALENDAR
