BEGIN:VCALENDAR
PRODID:-//dvv-bw.de//dvv.Portalplattform//DE
VERSION:2.0
METHOD:PUBLISH
BEGIN:VEVENT
DTSTART:20261103T090000Z
DTEND:20261103T110000Z
DTSTAMP:20260423T002432Z
UID:523253061941-523253061800-1793660400000
SUMMARY:Digitalsprechstunde für Senioren
LOCATION:Bürgertreff Hülbe\, Stettiner Straße 7
DESCRIPTION:Es wird eine persönliche Beratung angeboten\, in der auf Fragen eingegangen wird und diese direkt am mitgebrachten Gerät erklärt werden. Die Beratung erfolgt auf ehrenamtlicher Basis.
CLASS:PUBLIC
X-ALT-DESC;FMTTYPE=text/html:Es wird eine persönliche Beratung angeboten\, in der auf Fragen eingegangen wird und diese direkt am mitgebrachten Gerät erklärt werden. Die Beratung erfolgt auf ehrenamtlicher Basis.
END:VEVENT
BEGIN:VEVENT
DTSTART:20261104T170000Z
DTEND:20261104T190000Z
DTSTAMP:20260423T002432Z
UID:523253066254-523253057410-1793746800000
SUMMARY:Line Dance Anfänger/Wiedereinsteiger
LOCATION:Bürgertreff Hülbe\, Stettiner Straße 7
DESCRIPTION:Line Dance Gruppe\nWir üben gemeinsam\, sind keine Profis\, jeder kann sich einbringen.
CLASS:PUBLIC
X-ALT-DESC;FMTTYPE=text/html:Line Dance Gruppe<br>Wir üben gemeinsam\, sind keine Profis\, jeder kann sich einbringen.
END:VEVENT
BEGIN:VEVENT
DTSTART:20261107T120000Z
DTEND:20261107T160000Z
DTSTAMP:20260423T002432Z
UID:523253056065-523253049021-1794006000000
SUMMARY:Reparatur Café
LOCATION:Bürgertreff Hülbe\, Stettiner Straße 7
DESCRIPTION:Wie funktioniert es? BesucherInnen können ihre mitgebrachten\, defekten Sachen gemeinsam mit anwesenden Reparaturerfahrenen selbst reparieren oder reparieren lassen. ... und das ganze bei Kaffee\, Kuchen und gemütlicher Atmosphäre. Was kann ich mitbringen? Leicht transportierbares; z.B. Elektrogeräte\, Spielsachen\, kleine Näharbeiten\, Fahrräder etc. Teilnahme ist kostenlos - einfach spontan vorbeikommen! Evtl. Voranmeldung unter E-Mail: wegwerfen_nein_danke@gmx.net
CLASS:PUBLIC
X-ALT-DESC;FMTTYPE=text/html:Wie funktioniert es? BesucherInnen können ihre mitgebrachten\, defekten Sachen gemeinsam mit anwesenden Reparaturerfahrenen selbst reparieren oder reparieren lassen. ... und das ganze bei Kaffee\, Kuchen und gemütlicher Atmosphäre. Was kann ich mitbringen? Leicht transportierbares; z.B. Elektrogeräte\, Spielsachen\, kleine Näharbeiten\, Fahrräder etc. Teilnahme ist kostenlos - einfach spontan vorbeikommen! Evtl. Voranmeldung unter E-Mail: wegwerfen_nein_danke@gmx.net
END:VEVENT
BEGIN:VEVENT
DTSTART:20261106T230000Z
DTEND:20261107T230000Z
DTSTAMP:20260423T002432Z
RRULE;FREQ=DAILY;UNTIL=20261108T225959Z
UID:523253049126-523253049022-1794006000000
SUMMARY:Kunsthandwerkermarkt
LOCATION:Bruckmühle\, Vaihinger Straße 23\, 7171 Schwieberdingen
DESCRIPTION:Kunsthandwerkermarkt
CLASS:PUBLIC
X-ALT-DESC;FMTTYPE=text/html:Kunsthandwerkermarkt
END:VEVENT
BEGIN:VEVENT
DTSTART:20261108T103000Z
DTEND:20261108T170000Z
DTSTAMP:20260423T002432Z
UID:523253049127-523253049023-1794092400000
SUMMARY:Schwieberdinger Kirbe
LOCATION:Rund ums Rathaus\, Schloßhof 1
DESCRIPTION:Schwieberdinger Kirbe
CLASS:PUBLIC
X-ALT-DESC;FMTTYPE=text/html:Schwieberdinger Kirbe
END:VEVENT
BEGIN:VEVENT
DTSTART:20261110T090000Z
DTEND:20261110T110000Z
DTSTAMP:20260423T002432Z
UID:523253061942-523253061800-1794265200000
SUMMARY:Digitalsprechstunde für Senioren
LOCATION:Bürgertreff Hülbe\, Stettiner Straße 7
DESCRIPTION:Es wird eine persönliche Beratung angeboten\, in der auf Fragen eingegangen wird und diese direkt am mitgebrachten Gerät erklärt werden. Die Beratung erfolgt auf ehrenamtlicher Basis.
CLASS:PUBLIC
X-ALT-DESC;FMTTYPE=text/html:Es wird eine persönliche Beratung angeboten\, in der auf Fragen eingegangen wird und diese direkt am mitgebrachten Gerät erklärt werden. Die Beratung erfolgt auf ehrenamtlicher Basis.
END:VEVENT
BEGIN:VEVENT
DTSTART:20261111T170000Z
DTEND:20261111T190000Z
DTSTAMP:20260423T002432Z
UID:523253066255-523253057410-1794351600000
SUMMARY:Line Dance Anfänger/Wiedereinsteiger
LOCATION:Bürgertreff Hülbe\, Stettiner Straße 7
DESCRIPTION:Line Dance Gruppe\nWir üben gemeinsam\, sind keine Profis\, jeder kann sich einbringen.
CLASS:PUBLIC
X-ALT-DESC;FMTTYPE=text/html:Line Dance Gruppe<br>Wir üben gemeinsam\, sind keine Profis\, jeder kann sich einbringen.
END:VEVENT
BEGIN:VEVENT
DTSTART:20261112T160000Z
DTEND:20261112T171500Z
DTSTAMP:20260423T002432Z
UID:523253056057-523253049024-1794438000000
SUMMARY:Bürgersprechstunde des Bürgermeisters
LOCATION:Rathaus\, Zimmer 102\, Schloßhof 1
DESCRIPTION:Bürgersprechstunde des Bürgermeisters
CLASS:PUBLIC
X-ALT-DESC;FMTTYPE=text/html:Bürgersprechstunde des Bürgermeisters
END:VEVENT
BEGIN:VEVENT
DTSTART:20261113T183000Z
DTEND:20261113T203000Z
DTSTAMP:20260423T002432Z
UID:523252547113-523252547001-1794524400000
SUMMARY:NABU-Foto-AG
DESCRIPTION:Treffpunkt: Hemminger Bürgertreff\, Münchinger Str.2
CLASS:PUBLIC
X-ALT-DESC;FMTTYPE=text/html:Treffpunkt: Hemminger Bürgertreff\, Münchinger Str.2
END:VEVENT
BEGIN:VEVENT
DTSTART:20261117T090000Z
DTEND:20261117T110000Z
DTSTAMP:20260423T002432Z
UID:523253061943-523253061800-1794870000000
SUMMARY:Digitalsprechstunde für Senioren
LOCATION:Bürgertreff Hülbe\, Stettiner Straße 7
DESCRIPTION:Es wird eine persönliche Beratung angeboten\, in der auf Fragen eingegangen wird und diese direkt am mitgebrachten Gerät erklärt werden. Die Beratung erfolgt auf ehrenamtlicher Basis.
CLASS:PUBLIC
X-ALT-DESC;FMTTYPE=text/html:Es wird eine persönliche Beratung angeboten\, in der auf Fragen eingegangen wird und diese direkt am mitgebrachten Gerät erklärt werden. Die Beratung erfolgt auf ehrenamtlicher Basis.
END:VEVENT
BEGIN:VEVENT
DTSTART:20261117T150000Z
DTEND:20261117T170000Z
DTSTAMP:20260423T002432Z
UID:523252547102-523252547000-1794870000000
SUMMARY:Treffen der Naturschutzjugend NAJU
LOCATION:Hermann-Butzer-Schule im Tal, Herrenwiesenweg 31
DESCRIPTION:Interessierst Du Dich für Tiere und Pflanzen? Dann bist Du bei uns Naturentdeckern genau richtig. Wir erkunden die Natur direkt vor unserer Haustür und erfahren dabei ganz zwanglos viel Neues über Tiere und Pflanzen.
CLASS:PUBLIC
X-ALT-DESC;FMTTYPE=text/html:Interessierst Du Dich für Tiere und Pflanzen? Dann bist Du bei uns Naturentdeckern genau richtig. Wir erkunden die Natur direkt vor unserer Haustür und erfahren dabei ganz zwanglos viel Neues über Tiere und Pflanzen.
END:VEVENT
BEGIN:VEVENT
DTSTART:20261118T170000Z
DTEND:20261118T190000Z
DTSTAMP:20260423T002432Z
UID:523253066256-523253057410-1794956400000
SUMMARY:Line Dance Anfänger/Wiedereinsteiger
LOCATION:Bürgertreff Hülbe\, Stettiner Straße 7
DESCRIPTION:Line Dance Gruppe\nWir üben gemeinsam\, sind keine Profis\, jeder kann sich einbringen.
CLASS:PUBLIC
X-ALT-DESC;FMTTYPE=text/html:Line Dance Gruppe<br>Wir üben gemeinsam\, sind keine Profis\, jeder kann sich einbringen.
END:VEVENT
BEGIN:VEVENT
DTSTART:20261120T230000Z
DTEND:20261120T230000Z
DTSTAMP:20260423T002432Z
UID:523251932351-523251932251-1795215600000
SUMMARY:TSV Turnen Sportgala
LOCATION:Felsenberghalle\, Markgröninger Str. 31
DESCRIPTION:TSV Turnen Sportgala
CLASS:PUBLIC
X-ALT-DESC;FMTTYPE=text/html:TSV Turnen Sportgala
END:VEVENT
BEGIN:VEVENT
DTSTART:20261124T090000Z
DTEND:20261124T110000Z
DTSTAMP:20260423T002432Z
UID:523253061944-523253061800-1795474800000
SUMMARY:Digitalsprechstunde für Senioren
LOCATION:Bürgertreff Hülbe\, Stettiner Straße 7
DESCRIPTION:Es wird eine persönliche Beratung angeboten\, in der auf Fragen eingegangen wird und diese direkt am mitgebrachten Gerät erklärt werden. Die Beratung erfolgt auf ehrenamtlicher Basis.
CLASS:PUBLIC
X-ALT-DESC;FMTTYPE=text/html:Es wird eine persönliche Beratung angeboten\, in der auf Fragen eingegangen wird und diese direkt am mitgebrachten Gerät erklärt werden. Die Beratung erfolgt auf ehrenamtlicher Basis.
END:VEVENT
BEGIN:VEVENT
DTSTART:20261125T170000Z
DTEND:20261125T190000Z
DTSTAMP:20260423T002432Z
UID:523253066257-523253057410-1795561200000
SUMMARY:Line Dance Anfänger/Wiedereinsteiger
LOCATION:Bürgertreff Hülbe\, Stettiner Straße 7
DESCRIPTION:Line Dance Gruppe\nWir üben gemeinsam\, sind keine Profis\, jeder kann sich einbringen.
CLASS:PUBLIC
X-ALT-DESC;FMTTYPE=text/html:Line Dance Gruppe<br>Wir üben gemeinsam\, sind keine Profis\, jeder kann sich einbringen.
END:VEVENT
BEGIN:VEVENT
DTSTART:20261128T130000Z
DTEND:20261128T150000Z
DTSTAMP:20260423T002432Z
UID:523253230608-523253325007-1795820400000
SUMMARY:Kaffeenachmittag
LOCATION:Bruckmühle\, Vaihinger Straße 23\, 7171 Schwieberdingen
DESCRIPTION:gemütliche Einstimmung auf die Weihnachtszeit
CLASS:PUBLIC
X-ALT-DESC;FMTTYPE=text/html:gemütliche Einstimmung auf die Weihnachtszeit
END:VEVENT
BEGIN:VEVENT
DTSTART:20261128T190000Z
DTEND:20261128T210000Z
DTSTAMP:20260423T002432Z
UID:523249336353-523249336252-1795820400000
SUMMARY:Vocalensemble Ennea
LOCATION:Bürgersaal\, Bürgerhaus
DESCRIPTION:Mit ihren sowohl gefühlvollen\, als auch mitreißenden und nicht zuletzt anspruchsvollen Interpretationen von Liedern wie Love Runs Out\, The Sound Of Silence\, Superstition oder Ich seh Dich berühren sie ihr Publikum auf einmalige Art und Weise. Durch das Genre-unabhängige Repertoire von Pop über Gospel\, bis hin zum Musical kreieren die sieben Sängerinnen und fünf Sänger einen abwechslungsreichen und unvergesslichen Abend.\n\nEines wird bei ENNEA schnell klar: die Musik kommt von Herzen. Durch die emotionalen Balladen wird zum Träumen eingeladen und durch die energiegeladenen Up-tempo Songs wird zum Klatschen\, Mit-Wippen und Tanzen animiert. Diese einmalige Kombination aus zehn unverwechselbaren Stimmen\, gepaart mit grandiosen Instrumentalisten\, garantiert ein musikalisches Erlebnis der Extraklasse.\nSAMSTAG\, 28.11.2026 | 20:00 UHRBürgerhaus\, Bürgersaal\, Bahnhofstr. 14\, SchwieberdingenEINTRITT 12 € | ERMÄSSIGT 10 € | ABENDKASSE 14 €Verkauf: Bibliothek\, Rathaus\, www.leoticket.de
CLASS:PUBLIC
X-ALT-DESC;FMTTYPE=text/html:Mit ihren sowohl gefühlvollen\, als auch mitreißenden und nicht zuletzt anspruchsvollen Interpretationen von Liedern wie Love Runs Out\, The Sound Of Silence\, Superstition oder Ich seh Dich berühren sie ihr Publikum auf einmalige Art und Weise. Durch das Genre-unabhängige Repertoire von Pop über Gospel\, bis hin zum Musical kreieren die sieben Sängerinnen und fünf Sänger einen abwechslungsreichen und unvergesslichen Abend.<br><br>Eines wird bei ENNEA schnell klar: die Musik kommt von Herzen. Durch die emotionalen Balladen wird zum Träumen eingeladen und durch die energiegeladenen Up-tempo Songs wird zum Klatschen\, Mit-Wippen und Tanzen animiert. Diese einmalige Kombination aus zehn unverwechselbaren Stimmen\, gepaart mit grandiosen Instrumentalisten\, garantiert ein musikalisches Erlebnis der Extraklasse.<br>SAMSTAG\, 28.11.2026 | 20:00 UHRBürgerhaus\, Bürgersaal\, Bahnhofstr. 14\, SchwieberdingenEINTRITT 12 &euro; | ERMÄSSIGT 10 &euro; | ABENDKASSE 14 &euro;Verkauf: Bibliothek\, Rathaus\, www.leoticket.de
END:VEVENT
END:VCALENDAR
