BEGIN:VCALENDAR
PRODID:-//dvv-bw.de//dvv.Portalplattform//DE
VERSION:2.0
METHOD:PUBLISH
BEGIN:VEVENT
DTSTART:20260905T220000Z
DTEND:20260911T220000Z
DTSTAMP:20260422T145437Z
RRULE;FREQ=DAILY;UNTIL=20260912T215959Z
UID:523254013950-523254013850-1788645600000
SUMMARY:Sommerfreizeit
DESCRIPTION:Sommerfreizeit 2026- Show Time! \nDie Seelsorgeeinheit Strohgäu bietet zusammen mit der katholischen Kirche „Zur Heiligen Familie“ in Marbach eine Sommerfreizeit für Kinder ab 8 Jahren an\, welche von erfahrenen Jugendlichen und jungen Erwachsenen vorbereitet und geleitet wird.
CLASS:PUBLIC
X-ALT-DESC;FMTTYPE=text/html:Sommerfreizeit 2026- Show Time! <br>Die Seelsorgeeinheit Strohgäu bietet zusammen mit der katholischen Kirche &bdquo;Zur Heiligen Familie&ldquo; in Marbach eine Sommerfreizeit für Kinder ab 8 Jahren an\, welche von erfahrenen Jugendlichen und jungen Erwachsenen vorbereitet und geleitet wird.
END:VEVENT
END:VCALENDAR
