BEGIN:VCALENDAR
PRODID:-//dvv-bw.de//dvv.Portalplattform//DE
VERSION:2.0
METHOD:PUBLISH
BEGIN:VEVENT
DTSTART:20261029T230000Z
DTEND:20261029T230000Z
DTSTAMP:20260426T033127Z
UID:523253049124-523253049020-1793314800000
SUMMARY:Rübengeister schnitzen
LOCATION:Ortsmuseum „Im Alten Pfarrhaus“
DESCRIPTION:Rübengeister schnitzen
CLASS:PUBLIC
X-ALT-DESC;FMTTYPE=text/html:Rübengeister schnitzen
END:VEVENT
END:VCALENDAR
