BEGIN:VCALENDAR
PRODID:-//dvv-bw.de//dvv.Portalplattform//DE
VERSION:2.0
METHOD:PUBLISH
BEGIN:VEVENT
DTSTART:20261107T120000Z
DTEND:20261107T160000Z
DTSTAMP:20260423T011019Z
UID:523253056065-523253049021-1794006000000
SUMMARY:Reparatur Café
LOCATION:Bürgertreff Hülbe\, Stettiner Straße 7
DESCRIPTION:Wie funktioniert es? BesucherInnen können ihre mitgebrachten\, defekten Sachen gemeinsam mit anwesenden Reparaturerfahrenen selbst reparieren oder reparieren lassen. ... und das ganze bei Kaffee\, Kuchen und gemütlicher Atmosphäre. Was kann ich mitbringen? Leicht transportierbares; z.B. Elektrogeräte\, Spielsachen\, kleine Näharbeiten\, Fahrräder etc. Teilnahme ist kostenlos - einfach spontan vorbeikommen! Evtl. Voranmeldung unter E-Mail: wegwerfen_nein_danke@gmx.net
CLASS:PUBLIC
X-ALT-DESC;FMTTYPE=text/html:Wie funktioniert es? BesucherInnen können ihre mitgebrachten\, defekten Sachen gemeinsam mit anwesenden Reparaturerfahrenen selbst reparieren oder reparieren lassen. ... und das ganze bei Kaffee\, Kuchen und gemütlicher Atmosphäre. Was kann ich mitbringen? Leicht transportierbares; z.B. Elektrogeräte\, Spielsachen\, kleine Näharbeiten\, Fahrräder etc. Teilnahme ist kostenlos - einfach spontan vorbeikommen! Evtl. Voranmeldung unter E-Mail: wegwerfen_nein_danke@gmx.net
END:VEVENT
END:VCALENDAR
