BEGIN:VCALENDAR
PRODID:-//dvv-bw.de//dvv.Portalplattform//DE
VERSION:2.0
METHOD:PUBLISH
BEGIN:VEVENT
DTSTART:20260930T160000Z
DTEND:20260930T180000Z
DTSTAMP:20260422T092109Z
UID:523253057549-523253057410-1790719200000
SUMMARY:Line Dance Anfänger/Wiedereinsteiger
LOCATION:Bürgertreff Hülbe\, Stettiner Straße 7
DESCRIPTION:Line Dance Gruppe\nWir üben gemeinsam\, sind keine Profis\, jeder kann sich einbringen.
CLASS:PUBLIC
X-ALT-DESC;FMTTYPE=text/html:Line Dance Gruppe<br>Wir üben gemeinsam\, sind keine Profis\, jeder kann sich einbringen.
END:VEVENT
END:VCALENDAR
