BEGIN:VCALENDAR
PRODID:-//dvv-bw.de//dvv.Portalplattform//DE
VERSION:2.0
METHOD:PUBLISH
BEGIN:VEVENT
DTSTART:20260618T050000Z
DTEND:20260618T180000Z
DTSTAMP:20260422T194230Z
UID:523253230605-523253325004-1781733600000
SUMMARY:Lehrfahrt nach Straßburg
DESCRIPTION:Lehrfahrt nach Straßburg
CLASS:PUBLIC
X-ALT-DESC;FMTTYPE=text/html:Lehrfahrt nach Straßburg
END:VEVENT
END:VCALENDAR
