BEGIN:VCALENDAR
PRODID:-//dvv-bw.de//dvv.Portalplattform//DE
VERSION:2.0
METHOD:PUBLISH
BEGIN:VEVENT
DTSTART:20260510T073000Z
DTEND:20260510T093000Z
DTSTAMP:20260421T164755Z
UID:523096985457-523096978095-1778364000000
SUMMARY:Konfirmations-Festgottesdienst mit Posaunenchor
LOCATION:Georgskirche, Kirchstr. 27
DESCRIPTION:Konfirmations-Festgottesdienst mit Posaunenchor
CLASS:PUBLIC
X-ALT-DESC;FMTTYPE=text/html:Konfirmations-Festgottesdienst mit Posaunenchor
END:VEVENT
END:VCALENDAR
