BEGIN:VCALENDAR
PRODID:-//dvv-bw.de//dvv.Portalplattform//DE
VERSION:2.0
METHOD:PUBLISH
BEGIN:VEVENT
DTSTART:20260919T120000Z
DTEND:20260919T140000Z
DTSTAMP:20260422T082826Z
UID:523253230607-523253325006-1789768800000
SUMMARY:Herbsthocketse
LOCATION:Ort wird noch bekannt gegeben
DESCRIPTION:Herbsthocketse
CLASS:PUBLIC
X-ALT-DESC;FMTTYPE=text/html:Herbsthocketse
END:VEVENT
END:VCALENDAR
