BEGIN:VCALENDAR
PRODID:-//dvv-bw.de//dvv.Portalplattform//DE
VERSION:2.0
METHOD:PUBLISH
BEGIN:VEVENT
DTSTART:20260525T083000Z
DTEND:20260525T103000Z
DTSTAMP:20260422T085406Z
UID:523057027610-523056927660-1779660000000
SUMMARY:Gottesdienst auf der Nippenburg
LOCATION:Ruine Nippenburg
DESCRIPTION:Gestaltet von der Kirchengemeinde Schwieberdingen unter der Mitwirkung des Posaunenchors. Distriktgottesdienst der Ev. Kirchengemeinden Schwieberdingen\, Hemmingen u. Markgröningen
CLASS:PUBLIC
X-ALT-DESC;FMTTYPE=text/html:Gestaltet von der Kirchengemeinde Schwieberdingen unter der Mitwirkung des Posaunenchors. Distriktgottesdienst der Ev. Kirchengemeinden Schwieberdingen\, Hemmingen u. Markgröningen
END:VEVENT
END:VCALENDAR
