BEGIN:VCALENDAR
PRODID:-//dvv-bw.de//dvv.Portalplattform//DE
VERSION:2.0
METHOD:PUBLISH
BEGIN:VEVENT
DTSTART:20260617T070000Z
DTEND:20260617T090000Z
DTSTAMP:20260422T210940Z
UID:523051752608-523051679422-1781647200000
SUMMARY:Frauenfrühstück
LOCATION:Evangelisches Gemeindehaus\, Gartenstraße 8\, 71701 Schwieberdingen
DESCRIPTION:Referentin Alisa Ott aus Illingen.\nKinderbetreuung während des Referats wird angeboten.\nWeitere Infos unter www.ev-kirche-schwieberdingen.de
CLASS:PUBLIC
X-ALT-DESC;FMTTYPE=text/html:Referentin Alisa Ott aus Illingen.<br>Kinderbetreuung während des Referats wird angeboten.<br>Weitere Infos unter www.ev-kirche-schwieberdingen.de
END:VEVENT
END:VCALENDAR
