BEGIN:VCALENDAR
PRODID:-//dvv-bw.de//dvv.Portalplattform//DE
VERSION:2.0
METHOD:PUBLISH
BEGIN:VEVENT
DTSTART:20261213T163000Z
DTEND:20261213T183000Z
DTSTAMP:20260422T102637Z
UID:523253001458-523253001354-1797116400000
SUMMARY:Adventssingen unter dem Weihnachtsbaum
LOCATION:Schloßhof/ Rathaus
DESCRIPTION:Adventssingen unter dem Weihnachtsbaum
CLASS:PUBLIC
X-ALT-DESC;FMTTYPE=text/html:Adventssingen unter dem Weihnachtsbaum
END:VEVENT
END:VCALENDAR
